BEGIN:VCALENDAR
VERSION:2.0
PRODID:-//Arkiv för Barn i Uppsala - ECPv5.1.6//NONSGML v1.0//EN
CALSCALE:GREGORIAN
METHOD:PUBLISH
X-WR-CALNAME:Arkiv för Barn i Uppsala
X-ORIGINAL-URL:https://arkiv.barniuppsala.se
X-WR-CALDESC:Händelser för Arkiv för Barn i Uppsala
BEGIN:VTIMEZONE
TZID:Europe/Stockholm
BEGIN:DAYLIGHT
TZOFFSETFROM:+0100
TZOFFSETTO:+0200
TZNAME:CEST
DTSTART:20170326T010000
END:DAYLIGHT
BEGIN:STANDARD
TZOFFSETFROM:+0200
TZOFFSETTO:+0100
TZNAME:CET
DTSTART:20171029T010000
END:STANDARD
END:VTIMEZONE
BEGIN:VEVENT
DTSTART;TZID=Europe/Stockholm:20170705T150000
DTEND;TZID=Europe/Stockholm:20170705T150000
DTSTAMP:20260421T133805
CREATED:20170629T121720Z
LAST-MODIFIED:20170629T121720Z
UID:13924-1499266800-1499266800@arkiv.barniuppsala.se
SUMMARY:Sångpiraterna på Parksnäckan
DESCRIPTION:Sommarkul på Parksnäckan\nOnsdag den 5 juli kl 14:00 så kan du och hela familjen besöka Parksnäckan för ett roligt musikprogram med Ako och Grosse. \nI detta varma och glada musikprogram får barnen följa med sångpiraterna Ako och Grosse som med hjälp av sånger\, rörelser och instrument besöker olika länder. Varje resa har sina nya toner. Och barnen får både lyssna och sjunga med. \nMedverkande: Anna-Karin ”Ako” Nytell Oldeberg och Grosse Grotherus. \nSommarkul med många roliga aktiviteter och scenshow för hela familjen! Området öppnar kl 13 och stänger kl 15.  \nScenshow på stora scenen\, börjar alltid kl 14. Fri entré! Läs mer här! \nIngår i fri entré: \nScenprogram (läs mer om scenprogrammet nedan)\, burkkastning\, sagobuss\, pysselhörna\, hoppborg\, hästskokastning\, instrumentstuga\, krama Parksnäckans ekorre\, kasta boll m m. \nDessutom mot avgift:\nPonnyridning\, ansiktsmålning\, fiskdamm\, chokladhjul\, lotteri. \n\nCafe Gula Villan har öppet kl 10-18. \nBild från google.se \n0SHARESDela eventet
URL:https://arkiv.barniuppsala.se/event/sangpiraterna/
LOCATION:Parksnäckan\, Stadsträdgården\, Uppsala\, 75309\, Sverige
CATEGORIES:Barn,Teater och Bio
ATTACH;FMTTYPE=image/jpeg:https://arkiv.barniuppsala.se/wp-content/uploads/2017/06/parksnäckan-e1498742132108.jpg
GEO:59.851382;17.644544
X-APPLE-STRUCTURED-LOCATION;VALUE=URI;X-ADDRESS=Parksnäckan Stadsträdgården Uppsala 75309 Sverige;X-APPLE-RADIUS=500;X-TITLE=Stadsträdgården:geo:17.644544,59.851382
END:VEVENT
END:VCALENDAR