BEGIN:VCALENDAR
VERSION:2.0
PRODID:-//Arkiv för Barn i Uppsala - ECPv5.1.6//NONSGML v1.0//EN
CALSCALE:GREGORIAN
METHOD:PUBLISH
X-WR-CALNAME:Arkiv för Barn i Uppsala
X-ORIGINAL-URL:https://arkiv.barniuppsala.se
X-WR-CALDESC:Händelser för Arkiv för Barn i Uppsala
BEGIN:VTIMEZONE
TZID:Europe/Stockholm
BEGIN:DAYLIGHT
TZOFFSETFROM:+0100
TZOFFSETTO:+0200
TZNAME:CEST
DTSTART:20160327T010000
END:DAYLIGHT
BEGIN:STANDARD
TZOFFSETFROM:+0200
TZOFFSETTO:+0100
TZNAME:CET
DTSTART:20161030T010000
END:STANDARD
END:VTIMEZONE
BEGIN:VEVENT
DTSTART;TZID=Europe/Stockholm:20160414T200000
DTEND;TZID=Europe/Stockholm:20160329T180000
DTSTAMP:20260420T080940
CREATED:20160329T072743Z
LAST-MODIFIED:20160329T072743Z
UID:6576-1460664000-1459274400@arkiv.barniuppsala.se
SUMMARY:Saurons ringar och Feanors ädelstenar
DESCRIPTION:Martin Rundkvist håller ett föredrag: Saurons ringar och Feanors ädelstenar – om kraftbärande föremål hos JRR Tolkien. \nGratis entré \nPlats: Upplandsmuseets hörsal \n0SHARESDela eventet
URL:https://arkiv.barniuppsala.se/event/saurons-ringar-och-feanors-adelstenar/
LOCATION:Upplandsmuseet (Museet)\, S:t Eriks torg 10\, Uppsala\, 753 10\, Sverige
CATEGORIES:Museum,Utställning
ATTACH;FMTTYPE=image/jpeg:https://arkiv.barniuppsala.se/wp-content/uploads/2016/03/Ring.jpg
ORGANIZER;CN="Upplandsmuseet":MAILTO:museibutiken@upplandsmuseet.se
GEO:59.85895;17.634901
X-APPLE-STRUCTURED-LOCATION;VALUE=URI;X-ADDRESS=Upplandsmuseet (Museet) S:t Eriks torg 10 Uppsala 753 10 Sverige;X-APPLE-RADIUS=500;X-TITLE=S:t Eriks torg 10:geo:17.634901,59.85895
END:VEVENT
END:VCALENDAR