BEGIN:VCALENDAR
VERSION:2.0
PRODID:-//Arkiv för Barn i Uppsala - ECPv5.1.6//NONSGML v1.0//EN
CALSCALE:GREGORIAN
METHOD:PUBLISH
X-WR-CALNAME:Arkiv för Barn i Uppsala
X-ORIGINAL-URL:https://arkiv.barniuppsala.se
X-WR-CALDESC:Händelser för Arkiv för Barn i Uppsala
BEGIN:VTIMEZONE
TZID:Europe/Stockholm
BEGIN:DAYLIGHT
TZOFFSETFROM:+0100
TZOFFSETTO:+0200
TZNAME:CEST
DTSTART:20170326T010000
END:DAYLIGHT
BEGIN:STANDARD
TZOFFSETFROM:+0200
TZOFFSETTO:+0100
TZNAME:CET
DTSTART:20171029T010000
END:STANDARD
END:VTIMEZONE
BEGIN:VEVENT
DTSTART;TZID=Europe/Stockholm:20170315T160000
DTEND;TZID=Europe/Stockholm:20170315T173000
DTSTAMP:20260421T002731
CREATED:20170307T105618Z
LAST-MODIFIED:20170508T090138Z
UID:11628-1489593600-1489599000@arkiv.barniuppsala.se
SUMMARY:Schack för både nybörjare och vana spelare\, Gottsundabiblioteket
DESCRIPTION:Schack  i entrén på Gottsundabiblioteket\nFör både nybörjare och vana spelare\nSpela schack tillsammans med instruktören Jonathan Pinheiro Diamant. Passar för både nybörjare och vana spelare. Från 7 år och uppåt. \nNär: Onsdagarna 15 mars\, 19 april och 17 maj\, klockan 16 alla tre gångerna.\nVar: Gottsundabiblioteket \nPå Sveriges schackförbunds hemsida kan du öva upp dig om du vill. \n  \nBild: pixabay.com. \n0SHARESDela eventet
URL:https://arkiv.barniuppsala.se/event/schack-bade-nyborjare-och-vana-spelare/2017-03-15/
LOCATION:Gottsundabiblioteket\, Valthornsvägen 11\, Uppsala\, 756 50\, Sverige
CATEGORIES:Barn,Bibliotek,Spel & tävling,Ungdom
ATTACH;FMTTYPE=image/jpeg:https://arkiv.barniuppsala.se/wp-content/uploads/2017/03/schack_hand.jpg
ORGANIZER;CN="Bibliotek%20Uppsala":MAILTO:kundtjanst@bibliotekuppsala.se
GEO:59.8093409;17.6295555
X-APPLE-STRUCTURED-LOCATION;VALUE=URI;X-ADDRESS=Gottsundabiblioteket Valthornsvägen 11 Uppsala 756 50 Sverige;X-APPLE-RADIUS=500;X-TITLE=Valthornsvägen 11:geo:17.6295555,59.8093409
END:VEVENT
END:VCALENDAR