BEGIN:VCALENDAR
VERSION:2.0
PRODID:-//Arkiv för Barn i Uppsala - ECPv5.1.6//NONSGML v1.0//EN
CALSCALE:GREGORIAN
METHOD:PUBLISH
X-WR-CALNAME:Arkiv för Barn i Uppsala
X-ORIGINAL-URL:https://arkiv.barniuppsala.se
X-WR-CALDESC:Händelser för Arkiv för Barn i Uppsala
BEGIN:VTIMEZONE
TZID:Europe/Stockholm
BEGIN:DAYLIGHT
TZOFFSETFROM:+0100
TZOFFSETTO:+0200
TZNAME:CEST
DTSTART:20160327T010000
END:DAYLIGHT
BEGIN:STANDARD
TZOFFSETFROM:+0200
TZOFFSETTO:+0100
TZNAME:CET
DTSTART:20161030T010000
END:STANDARD
END:VTIMEZONE
BEGIN:VEVENT
DTSTART;TZID=Europe/Stockholm:20160113T171500
DTEND;TZID=Europe/Stockholm:20160113T181500
DTSTAMP:20260422T162757
CREATED:20160104T132027Z
LAST-MODIFIED:20160104T132027Z
UID:5665-1452705300-1452708900@arkiv.barniuppsala.se
SUMMARY:Schackklubb
DESCRIPTION:Kom och spela schack och lär dig mer om hur du utvecklar ditt spel. För barn och unga från 7 år på alla nivåer. Ledare från Uppsala skolschacksällskap. Ingen föranmälan. \n0SHARESDela eventet
URL:https://arkiv.barniuppsala.se/event/schackklubb/
LOCATION:Gränbybiblioteket\, Liljeforstorg 1\, Uppsala\, 754 29\, Sverige
ATTACH;FMTTYPE=image/jpeg:https://arkiv.barniuppsala.se/wp-content/uploads/2016/01/Schack.jpg
ORGANIZER;CN="Bibliotek%20Uppsala":MAILTO:kundtjanst@bibliotekuppsala.se
GEO:59.8718525;17.6582693
X-APPLE-STRUCTURED-LOCATION;VALUE=URI;X-ADDRESS=Gränbybiblioteket Liljeforstorg 1 Uppsala 754 29 Sverige;X-APPLE-RADIUS=500;X-TITLE=Liljeforstorg 1:geo:17.6582693,59.8718525
END:VEVENT
END:VCALENDAR