BEGIN:VCALENDAR
VERSION:2.0
PRODID:-//Arkiv för Barn i Uppsala - ECPv5.1.6//NONSGML v1.0//EN
CALSCALE:GREGORIAN
METHOD:PUBLISH
X-WR-CALNAME:Arkiv för Barn i Uppsala
X-ORIGINAL-URL:https://arkiv.barniuppsala.se
X-WR-CALDESC:Händelser för Arkiv för Barn i Uppsala
BEGIN:VTIMEZONE
TZID:Europe/Stockholm
BEGIN:DAYLIGHT
TZOFFSETFROM:+0100
TZOFFSETTO:+0200
TZNAME:CEST
DTSTART:20160327T010000
END:DAYLIGHT
BEGIN:STANDARD
TZOFFSETFROM:+0200
TZOFFSETTO:+0100
TZNAME:CET
DTSTART:20161030T010000
END:STANDARD
END:VTIMEZONE
BEGIN:VEVENT
DTSTART;TZID=Europe/Stockholm:20161103T160000
DTEND;TZID=Europe/Stockholm:20161103T170000
DTSTAMP:20260421T021924
CREATED:20161103T101751Z
LAST-MODIFIED:20161103T101816Z
UID:9091-1478188800-1478192400@arkiv.barniuppsala.se
SUMMARY:Schackklubb
DESCRIPTION:Vill du spela schack? \nAlla är välkomna\, både nybörjare och vana schackspelare. \nVill du veta mer kan du fråga personalen på biblioteket eller ring 018-727 60 56 och fråga\nefter Sebastian. \nAlla barn inget kostnad \nFri entre \n\n\n 0SHARESDela eventet
URL:https://arkiv.barniuppsala.se/event/schacklubb/
LOCATION:Sävjabiblioteket\, Västgötaresan\, Uppsala\, 757 54\, Sverige
CATEGORIES:Höstlov,Ungdom
ATTACH;FMTTYPE=image/jpeg:https://arkiv.barniuppsala.se/wp-content/uploads/2016/11/schackspel.jpg
GEO:59.8085971;17.7022024
X-APPLE-STRUCTURED-LOCATION;VALUE=URI;X-ADDRESS=Sävjabiblioteket Västgötaresan Uppsala 757 54 Sverige;X-APPLE-RADIUS=500;X-TITLE=Västgötaresan:geo:17.7022024,59.8085971
END:VEVENT
END:VCALENDAR