BEGIN:VCALENDAR
VERSION:2.0
PRODID:-//Arkiv för Barn i Uppsala - ECPv5.1.6//NONSGML v1.0//EN
CALSCALE:GREGORIAN
METHOD:PUBLISH
X-WR-CALNAME:Arkiv för Barn i Uppsala
X-ORIGINAL-URL:https://arkiv.barniuppsala.se
X-WR-CALDESC:Händelser för Arkiv för Barn i Uppsala
BEGIN:VTIMEZONE
TZID:Europe/Stockholm
BEGIN:DAYLIGHT
TZOFFSETFROM:+0100
TZOFFSETTO:+0200
TZNAME:CEST
DTSTART:20170326T010000
END:DAYLIGHT
BEGIN:STANDARD
TZOFFSETFROM:+0200
TZOFFSETTO:+0100
TZNAME:CET
DTSTART:20171029T010000
END:STANDARD
END:VTIMEZONE
BEGIN:VEVENT
DTSTART;TZID=Europe/Stockholm:20170222T130000
DTEND;TZID=Europe/Stockholm:20170222T140000
DTSTAMP:20260420T210223
CREATED:20170220T141936Z
LAST-MODIFIED:20170220T142050Z
UID:11231-1487768400-1487772000@arkiv.barniuppsala.se
SUMMARY:Seriebubblan
DESCRIPTION:Lär dig skapa serier. Huvudbiblioteket\, Enköpingsrummet \nMålgrupp: för dig som är  10-13 år\nVad händer? Vi ritar och skriver klart några seriestrippar som påbörjats. \nKanske vill du teckna din egen berättelse. \nMer information på telefon 0171-62 55 10 \nEtt samarbete med Barnens bibliotek. \n\n\n 0SHARESDela eventet
URL:https://arkiv.barniuppsala.se/event/seriebubblan/
LOCATION:Huvudbiblioteket\, Ågatan 29\, Enköping\, 74935
CATEGORIES:Prova på,Sportlov
ATTACH;FMTTYPE=image/jpeg:https://arkiv.barniuppsala.se/wp-content/uploads/2017/02/enköping-huvud-biblioteket.jpg
GEO:59.6338936;17.0735197
X-APPLE-STRUCTURED-LOCATION;VALUE=URI;X-ADDRESS=Huvudbiblioteket Ågatan 29 Enköping 74935;X-APPLE-RADIUS=500;X-TITLE=Ågatan 29:geo:17.0735197,59.6338936
END:VEVENT
END:VCALENDAR