BEGIN:VCALENDAR
VERSION:2.0
PRODID:-//Arkiv för Barn i Uppsala - ECPv5.1.6//NONSGML v1.0//EN
CALSCALE:GREGORIAN
METHOD:PUBLISH
X-WR-CALNAME:Arkiv för Barn i Uppsala
X-ORIGINAL-URL:https://arkiv.barniuppsala.se
X-WR-CALDESC:Händelser för Arkiv för Barn i Uppsala
BEGIN:VTIMEZONE
TZID:Europe/Stockholm
BEGIN:DAYLIGHT
TZOFFSETFROM:+0100
TZOFFSETTO:+0200
TZNAME:CEST
DTSTART:20160327T010000
END:DAYLIGHT
BEGIN:STANDARD
TZOFFSETFROM:+0200
TZOFFSETTO:+0100
TZNAME:CET
DTSTART:20161030T010000
END:STANDARD
END:VTIMEZONE
BEGIN:VEVENT
DTSTART;TZID=Europe/Stockholm:20161110T190000
DTEND;TZID=Europe/Stockholm:20161110T200000
DTSTAMP:20260420T142455
CREATED:20161109T091407Z
LAST-MODIFIED:20161109T091407Z
UID:9222-1478804400-1478808000@arkiv.barniuppsala.se
SUMMARY:Skaparverkstad: Smörknivar.
DESCRIPTION:Har du saknat slöjdsalens doft av eneträ? Kom och återupplev den och passa på att tälja din egen smörkniv. Inga förkunskaper krävs! \nAnordnat Av: Josefine Lind och Eva Lindqvist. \nTid: 19.00 \n0SHARESDela eventet
URL:https://arkiv.barniuppsala.se/event/skaparverkstad-smorknivar/
LOCATION:Årstakyrkan\, Sparrisgatan 9\, Uppsala\, 75446\, Sverige
CATEGORIES:Pyssel
ATTACH;FMTTYPE=image/jpeg:https://arkiv.barniuppsala.se/wp-content/uploads/2016/11/arsta-470x280.jpg
GEO:59.8660391;17.6857328
X-APPLE-STRUCTURED-LOCATION;VALUE=URI;X-ADDRESS=Årstakyrkan Sparrisgatan 9 Uppsala 75446 Sverige;X-APPLE-RADIUS=500;X-TITLE=Sparrisgatan 9:geo:17.6857328,59.8660391
END:VEVENT
END:VCALENDAR