BEGIN:VCALENDAR
VERSION:2.0
PRODID:-//Arkiv för Barn i Uppsala - ECPv5.1.6//NONSGML v1.0//EN
CALSCALE:GREGORIAN
METHOD:PUBLISH
X-WR-CALNAME:Arkiv för Barn i Uppsala
X-ORIGINAL-URL:https://arkiv.barniuppsala.se
X-WR-CALDESC:Händelser för Arkiv för Barn i Uppsala
BEGIN:VTIMEZONE
TZID:Europe/Stockholm
BEGIN:DAYLIGHT
TZOFFSETFROM:+0100
TZOFFSETTO:+0200
TZNAME:CEST
DTSTART:20190331T010000
END:DAYLIGHT
BEGIN:STANDARD
TZOFFSETFROM:+0200
TZOFFSETTO:+0100
TZNAME:CET
DTSTART:20191027T010000
END:STANDARD
END:VTIMEZONE
BEGIN:VEVENT
DTSTART;TZID=Europe/Stockholm:20190724T200000
DTEND;TZID=Europe/Stockholm:20190724T200000
DTSTAMP:20260421T164053
CREATED:20190719T060607Z
LAST-MODIFIED:20190719T060607Z
UID:45371-1563998400-1563998400@arkiv.barniuppsala.se
SUMMARY:Skärgårdsturnén | Öregrund - Fyrskeppsudden
DESCRIPTION:Skärgårdsturnén | Öregrund – Fyrskeppsudden\nIdén med Skärgårdsturnén fick Tina 2014 då hon under ett par somrar medverkat på andra liknande lokala turnéer i Sverige såsom Hovturnén i Skåne och Packmopedsturnén i Värmland. De turnéerna gick till häst och moppe\, och där såddes det första lilla fröet – kunde det inte vara en idé att göra en liknande turné till sjöss?!  Skärgårdsturnén var född! Alla dessa fantastiskt fina miljöer som finns i skärgården är ju som gjorda att göra konserter på… \nDatum: Onsdagen den 24 juli 2019\nTid: 19.00\nPlats: Fyrskeppsudden Öregrund\nPris: 425 Kr\nBiljetter: handlas genom Ticketmaster.\nKlicka på nedanstående länk \nhttps://www.ticketmaster.se/artist/skargardsturnen-biljetter/970659\n(extern länk öppnas i nytt fönster/flik) \nFri entré för alla upp till 17 år. \n\nSkärgårdsturnén 2019\nI år är följande artister med på turnén. \nEbbot Lundberg \nMed sin stora röst\, sin karisma och humor samt ett särpräglat uttryck hör Ebbot Lundberg till en av våra absolut främsta artister. Ebbot har varit frontfigur i två av den svenska rockhistoriens största band; ”Union Carbide Productions” under tiden 1986 – 1993 och ”The Soundtrack of Our Lives” under tiden 1994 – 2012. I Ebbots musikaliska universum samsas kosmiskt psykedeliska utsvävningar med en högst jordnära fysisk attack\, subtila popmelodier och en rent okontrollerbar urkraft. 2013 var Ebbot Lundberg en av deltagarna i TV4´s populära serie ”Så Mycket Bättre” och hans tolkningar av de andra artisternas låtar visar vilken musikalisk bredd han besitter i sitt sätt att uttrycka sig och i sin förmåga att omvandla vad som helst genom sitt unika artistiska filter. Under 2017 turnerade Ebbot både i Sverige och Europa och under sommaren 2017 spelade han in sitt eget tv-program\, ”Ebbots Ark” där Ebbot tog rodret för skeppet TS Westkust och bjöd med sina gäster och TV-tittare på en musikalisk resa i Göteborgs skärgård. \n \nViktoria Tolstoy\nViktoria Tolstoy är en sällsynt sångfågel i musikbranschen – en av Sveriges absolut största jazzsångerskor. Viktoria har bl.a. uppträtt med Svante Turesson\, Putte Wickman\, Arne Domnerus\, Ulf Wakenius\, Jojje Wadenius\, Esbjörn Svensson och Nils Landgren – även med stora internationella artister så som McCoy Tyner\, Ray Brown och Toots Thielemans m.fl. Viktoria har turnerat och uppträtt på de stora scenerna i världen; Japan\, Malaysia\, Sydafrika\, Mexiko\, England\, Tyskland\, Italien och Spanien för att nämna några. Och hon har fått fina utmärkelser och priser så som Årets nykomling i Jazzkatten (1994) och Ulla Billquist-stipendiet (1998). Viktoria beskrivs som en riktig naturbegåvning. \nPeter Carlsson\n\nKänd från bl.a. Blå Grodorna. En av Sveriges i särklass mest underhållande musiker och historieberättare. Peter Carlsson har en lång succéartad karriär med Blå Grodorna sedan starten 1993. Med utsålda hus över hela landet har han trollbundit sin publik med sina berättelser och sina sånger. Peter spelar allt från visor till rock blandat med skrönor och humor. Peter blev 2003 års Karamelodiktstipendiat med motiveringen: ”För ett unikt artisteri av hög värmegrad som i många skepnader\, tillsynes förstrött\, släntrar sig igenom en oemotståndlig blandning av filosofisk bondkomik\, suggestiv blues\, skrattskapande språkvolter\, finstämda visor och ett enastående rytmiskt hålligång med diverse köksattiraljer – men också för att han lyckats upprätthålla något så ovanligt som en diskret pyramidal succé år efter år i alldeles egen Scala.” \nTina Ahlin\nTina Ahlin har varit verksam musiker i 30 år. Hon sjunger\, spelar piano och munspel – och har samarbetat med Hasse Alfredson\, Stefan Sundström\, Tomas Di Leva\, Lisa Nilsson\, Orup\, Lorrygänget och\, många många fler. 1996 fick hon “Lovisastormen” skriven till sig av Olle Adolphson. 1999 började hennes samarbete med Hasse Alfredsson i revyn “Prins korv under taket” där recensionerna genomgående var lysande. Deras samarbete ledde sedan vidare till två skivor\,  Dramaten och Maxim-föreställningar\,  julshow med även Lill Lindfors på Vasan m.m. Tina har släppt tre soloskivor – varav två; “Sommarkort” och “12 sånger av Allan Edwall” blev grammis-nominerade. Tina har också programlett en serie uppskattade musikmöten i SVT:s “Gokväll”. Där bjöd Tina in gäster som bl.a. Loa Falkman\, Robert Broberg\, Salem Al Fakir och Jarl Alfredius. Tina har varit programledare på SVT och TV4 och har fått hedersuppdraget att vara högtidsvärd för Valborg\, Midsommar och Nationdaldagen på SVT.  2013 och 2015 släppte Tina två böcker; Svenska Barnvisor och Om sommaren sköna.  Sedan fyra år samarbetar Tina med Orsa Spelmän och sommaren 2017 släpptes deras debutalbum som fick idel fina recensioner. \n\nOBSERVERA: Medtag egen förtäring och egen solstol eller filt om du vill sitta. Det finns ett begränsat antal bänkar. Konserten genomförs även vid regn. Om du har möjlighet\, lämna gärna bilen hemma. Detta p.g.a. begränsade parkeringsmöjligheter.\n \n\nBesök gärna följande länkar nedan (extern länk öppnas i nytt fönster/flik) \nKommande event inom sång och musik | Skärgårds Turnén | Öregrund \nFoto: PRESSBILD \n0SHARESDela eventet
URL:https://arkiv.barniuppsala.se/event/skargardsturnen-oregrund-fyrskeppsudden/
LOCATION:Öregrunds Hamn\, Snickaregatan 11\, Öregrund\, 742 42\, Sverige
CATEGORIES:Familj,Konsert,Sång och Musik,Ungdom,Utomhusaktivitet
ATTACH;FMTTYPE=image/jpeg:https://arkiv.barniuppsala.se/wp-content/uploads/2019/07/DSC_0081-1024x683-e1563518620406.jpg
GEO:60.3371893;18.443057
X-APPLE-STRUCTURED-LOCATION;VALUE=URI;X-ADDRESS=Öregrunds Hamn Snickaregatan 11 Öregrund 742 42 Sverige;X-APPLE-RADIUS=500;X-TITLE=Snickaregatan 11:geo:18.443057,60.3371893
END:VEVENT
END:VCALENDAR