BEGIN:VCALENDAR
VERSION:2.0
PRODID:-//Arkiv för Barn i Uppsala - ECPv5.1.6//NONSGML v1.0//EN
CALSCALE:GREGORIAN
METHOD:PUBLISH
X-WR-CALNAME:Arkiv för Barn i Uppsala
X-ORIGINAL-URL:https://arkiv.barniuppsala.se
X-WR-CALDESC:Händelser för Arkiv för Barn i Uppsala
BEGIN:VTIMEZONE
TZID:Europe/Stockholm
BEGIN:DAYLIGHT
TZOFFSETFROM:+0100
TZOFFSETTO:+0200
TZNAME:CEST
DTSTART:20170326T010000
END:DAYLIGHT
BEGIN:STANDARD
TZOFFSETFROM:+0200
TZOFFSETTO:+0100
TZNAME:CET
DTSTART:20171029T010000
END:STANDARD
END:VTIMEZONE
BEGIN:VEVENT
DTSTART;TZID=Europe/Stockholm:20171127T163000
DTEND;TZID=Europe/Stockholm:20171127T180000
DTSTAMP:20260420T131717
CREATED:20171123T092255Z
LAST-MODIFIED:20171123T092445Z
UID:16743-1511800200-1511805600@arkiv.barniuppsala.se
SUMMARY:Skrivarklubb
DESCRIPTION:Skrivarklubb på Gottsundabiblioteket\n\n\nPå Gottsundabibliotekets skrivarklubb får du tips & tricks för att hitta orden och fantasin. \nFör dig som är 10-14 år. \n\n\n\nFöranmälan till alla tillfällen till Gottsundabiblioteket:\nTelefon:  018-727 60 50\nE-post: gottsundabiblioteket@uppsala.se \nTid och plats\nMåndagar kl 16.30–18.00 (27 november\, 4 december och 11 december)\nGottsundabiblioteket \nBild från:pixabay.com \n\n 0SHARESDela eventet
URL:https://arkiv.barniuppsala.se/event/skrivarklubb/2017-11-27/
LOCATION:Gottsundabiblioteket\, Valthornsvägen 11\, Uppsala\, 756 50\, Sverige
CATEGORIES:Barn,Bibliotek,Kunskap och Lärande
ATTACH;FMTTYPE=image/jpeg:https://arkiv.barniuppsala.se/wp-content/uploads/2017/05/pencil-918449_640.jpg
GEO:59.8093409;17.6295555
X-APPLE-STRUCTURED-LOCATION;VALUE=URI;X-ADDRESS=Gottsundabiblioteket Valthornsvägen 11 Uppsala 756 50 Sverige;X-APPLE-RADIUS=500;X-TITLE=Valthornsvägen 11:geo:17.6295555,59.8093409
END:VEVENT
END:VCALENDAR