BEGIN:VCALENDAR
VERSION:2.0
PRODID:-//Arkiv för Barn i Uppsala - ECPv5.1.6//NONSGML v1.0//EN
CALSCALE:GREGORIAN
METHOD:PUBLISH
X-WR-CALNAME:Arkiv för Barn i Uppsala
X-ORIGINAL-URL:https://arkiv.barniuppsala.se
X-WR-CALDESC:Händelser för Arkiv för Barn i Uppsala
BEGIN:VTIMEZONE
TZID:Europe/Stockholm
BEGIN:DAYLIGHT
TZOFFSETFROM:+0100
TZOFFSETTO:+0200
TZNAME:CEST
DTSTART:20160327T010000
END:DAYLIGHT
BEGIN:STANDARD
TZOFFSETFROM:+0200
TZOFFSETTO:+0100
TZNAME:CET
DTSTART:20161030T010000
END:STANDARD
END:VTIMEZONE
BEGIN:VEVENT
DTSTART;TZID=Europe/Stockholm:20161104T130000
DTEND;TZID=Europe/Stockholm:20161104T150000
DTSTAMP:20260421T053336
CREATED:20161103T103115Z
LAST-MODIFIED:20161103T103115Z
UID:9097-1478264400-1478271600@arkiv.barniuppsala.se
SUMMARY:Slakta en bok
DESCRIPTION:Fredag\, den 04 november 2016 Klockan: 13:00 \nBokåtervinningspyssel med Sara Blackarm. \nFör dig 10-13 år. Föranmälan till Sävjabiblioteket. \nVarmt välkomna! \nSävjabiblioteket \n0SHARESDela eventet
URL:https://arkiv.barniuppsala.se/event/slakta-en-bok/
LOCATION:Sävjabiblioteket\, Västgötaresan\, Uppsala\, 757 54\, Sverige
CATEGORIES:Bibliotek,Ungdom
ATTACH;FMTTYPE=image/jpeg:https://arkiv.barniuppsala.se/wp-content/uploads/2016/11/books.jpg
GEO:59.8085971;17.7022024
X-APPLE-STRUCTURED-LOCATION;VALUE=URI;X-ADDRESS=Sävjabiblioteket Västgötaresan Uppsala 757 54 Sverige;X-APPLE-RADIUS=500;X-TITLE=Västgötaresan:geo:17.7022024,59.8085971
END:VEVENT
END:VCALENDAR