BEGIN:VCALENDAR
VERSION:2.0
PRODID:-//Arkiv för Barn i Uppsala - ECPv5.1.6//NONSGML v1.0//EN
CALSCALE:GREGORIAN
METHOD:PUBLISH
X-WR-CALNAME:Arkiv för Barn i Uppsala
X-ORIGINAL-URL:https://arkiv.barniuppsala.se
X-WR-CALDESC:Händelser för Arkiv för Barn i Uppsala
BEGIN:VTIMEZONE
TZID:Europe/Stockholm
BEGIN:DAYLIGHT
TZOFFSETFROM:+0100
TZOFFSETTO:+0200
TZNAME:CEST
DTSTART:20180325T010000
END:DAYLIGHT
BEGIN:STANDARD
TZOFFSETFROM:+0200
TZOFFSETTO:+0100
TZNAME:CET
DTSTART:20181028T010000
END:STANDARD
END:VTIMEZONE
BEGIN:VEVENT
DTSTART;TZID=Europe/Stockholm:20180722T110000
DTEND;TZID=Europe/Stockholm:20180722T170000
DTSTAMP:20260421T234414
CREATED:20180717T083242Z
LAST-MODIFIED:20180717T083242Z
UID:19591-1532257200-1532278800@arkiv.barniuppsala.se
SUMMARY:Slåtterdag på Linnés Hammarby
DESCRIPTION:Slåtterdag på Linnés Hammarby\nSlåtterdag hos familjen Linné.\nVälkommen på slåtterdag på Linnés Hammarby.\nSlåtter eller vallskörd är avverkning av högt gräs i avsikt att få hö till foder till nötkreatur\, hästar och får. Lär dig använda lie\, räfsa och hässja hö. Lyssna på musik och tillverka halmdockor. Visningar och försäljning av historiska grönsaker i kålgården. Vandringar längs kulturstigen. Fri entré för 1700-talsklädda. \nGården Hammarby är en av Sveriges mest stilriktigt bevarade 1700-talsgårdar. Den köptes av Carl von Linné 1758 som en tillflykt från Uppsalas osunda miljö. Här speglas både Carl von Linnés privatliv och hans vetenskapliga gärning. \nI den lummiga parken frodas många av de växter Linné själv odlade. Från höjden ovanför gården kan man njuta av utsikten och drömma sig tillbaka till 1700-talets landskap. \n\n10.00–15.00    Slåtter i kulturreservatet. Slå med lie och räfsa; hässja hö.\n11.00–12.00    Välkommen till Linnés kålgård\, där vi odlar historiska grönsaker.\n11.00–16.00    Aktiviteter i trädgården: tillverka halmdockor. Bli 1700-talsbarn för en dag. Låna kläder och leksaker.\n12.30    Kulturhistorisk vandring i kulturreservatet.\n14.00–15.00   Vi pratar om historiska grönsaker i Linnés kålgård.\n\nDatum: Söndag 22 juli\nTid: kl. 10–16\nVar: Kulturreservatet\, Linnés Hammarby\nPris: 80 kr / Fri entré för 1700-talsklädda.\nBarn 0-17 år gratis. \n\nHitta till Linnés Hammarby \nFrån E4 förbi Uppsala tag avfart 187 och kör väg 282 mot Edsbro. Tag sedan höger mot Danmark och Linnés Hammarby. Linnés Hammarby har GPS-koordinaterna WGS84 59° 49′ 3″ N\, 17° 46′ 35″ E och UTM-koordinaterna 59.8175°\, 17.776389°). \n\nFör mer information om Linnés Hammaby\, klicka här. (Länken öppnas i nytt fönster/flik.) \nBild från commons.wikimedia.org \n0SHARESDela eventet
URL:https://arkiv.barniuppsala.se/event/slatterdag-linnes-hammarby/
LOCATION:Linnés Hammarby\, Danmarks-Hammarby 18\, Uppsala\, 755 98\, Sverige
CATEGORIES:Djur,Kunskap och Lärande,Natur,Prova på,Trädgård,Utomhusaktivitet
ATTACH;FMTTYPE=image/jpeg:https://arkiv.barniuppsala.se/wp-content/uploads/2018/04/CarlvonLinne_Hammarby-e1524218249507.jpg
ORGANIZER;CN="Uppsala%20linneanska%20tr%C3%A4dg%C3%A5rdar":MAILTO:bokning@botan.uu.se
GEO:59.8176123;17.7762553
X-APPLE-STRUCTURED-LOCATION;VALUE=URI;X-ADDRESS=Linnés Hammarby Danmarks-Hammarby 18 Uppsala 755 98 Sverige;X-APPLE-RADIUS=500;X-TITLE=Danmarks-Hammarby 18:geo:17.7762553,59.8176123
END:VEVENT
END:VCALENDAR