BEGIN:VCALENDAR
VERSION:2.0
PRODID:-//Arkiv för Barn i Uppsala - ECPv5.1.6//NONSGML v1.0//EN
CALSCALE:GREGORIAN
METHOD:PUBLISH
X-WR-CALNAME:Arkiv för Barn i Uppsala
X-ORIGINAL-URL:https://arkiv.barniuppsala.se
X-WR-CALDESC:Händelser för Arkiv för Barn i Uppsala
BEGIN:VTIMEZONE
TZID:Europe/Stockholm
BEGIN:DAYLIGHT
TZOFFSETFROM:+0100
TZOFFSETTO:+0200
TZNAME:CEST
DTSTART:20180325T010000
END:DAYLIGHT
BEGIN:STANDARD
TZOFFSETFROM:+0200
TZOFFSETTO:+0100
TZNAME:CET
DTSTART:20181028T010000
END:STANDARD
END:VTIMEZONE
BEGIN:VEVENT
DTSTART;TZID=Europe/Stockholm:20180807T140000
DTEND;TZID=Europe/Stockholm:20180807T170000
DTSTAMP:20260423T223059
CREATED:20180802T092218Z
LAST-MODIFIED:20200209T141410Z
UID:21073-1533650400-1533661200@arkiv.barniuppsala.se
SUMMARY:Återbruksslöjd på Storvretabiblioteket
DESCRIPTION:Återbruksslöjd på Storvretabiblioteket\nÅterbruksslöjd – Prova på att skapa nytt av gammalt material under kreativa workshops med Rebecca Liljefors. Tema: Vindspel av skräp. \nTid och plats: Tisdag 7 augusti 14.00-17.00 . \nÅlder: 9-15 år. \nIngen föranmälan\, drop in \nPris: gratis \n\nFor mer informtion  om eventet\, klicka här så kommer du till bibliotekets sida. \nBild från: pixabay.com \n0SHARESDela eventet
URL:https://arkiv.barniuppsala.se/event/slojd-3/
LOCATION:Storvretabiblioteket\, Fullerövägen 1\, Storvreta\, 743 32\, Sverige
CATEGORIES:Barn,Bibliotek,Prova på,Skapande och Kreativitet,Sommarlov
ATTACH;FMTTYPE=image/jpeg:https://arkiv.barniuppsala.se/wp-content/uploads/2018/02/amulet-713355_640.jpg
ORGANIZER;CN="Storvretabiblioteket":MAILTO:storvretabiblioteket@uppsala.se
GEO:59.960157;17.7033815
X-APPLE-STRUCTURED-LOCATION;VALUE=URI;X-ADDRESS=Storvretabiblioteket Fullerövägen 1 Storvreta 743 32 Sverige;X-APPLE-RADIUS=500;X-TITLE=Fullerövägen 1:geo:17.7033815,59.960157
END:VEVENT
END:VCALENDAR