BEGIN:VCALENDAR
VERSION:2.0
PRODID:-//Arkiv för Barn i Uppsala - ECPv5.1.6//NONSGML v1.0//EN
CALSCALE:GREGORIAN
METHOD:PUBLISH
X-WR-CALNAME:Arkiv för Barn i Uppsala
X-ORIGINAL-URL:https://arkiv.barniuppsala.se
X-WR-CALDESC:Händelser för Arkiv för Barn i Uppsala
BEGIN:VTIMEZONE
TZID:Europe/Stockholm
BEGIN:DAYLIGHT
TZOFFSETFROM:+0100
TZOFFSETTO:+0200
TZNAME:CEST
DTSTART:20150329T010000
END:DAYLIGHT
BEGIN:STANDARD
TZOFFSETFROM:+0200
TZOFFSETTO:+0100
TZNAME:CET
DTSTART:20151025T010000
END:STANDARD
END:VTIMEZONE
BEGIN:VEVENT
DTSTART;TZID=Europe/Stockholm:20151105T100000
DTEND;TZID=Europe/Stockholm:20151105T103000
DTSTAMP:20260421T053326
CREATED:20150806T083725Z
LAST-MODIFIED:20151103T081444Z
UID:3030-1446717600-1446719400@arkiv.barniuppsala.se
SUMMARY:Småbarnsrytmik på Stadsbiblioteket
DESCRIPTION:Varje torsdag under oktober och november håller Stadsbiblioteket småbarnsrytmik där barnen får röra sig till musik\, rytmer och ramsor. \nPris: Gratis. Biljett kan hämtas eller bokas en vecka innan.  \nLängd: Cirka 30 minuter \nMålgrupp: Barn 1-3 år med förälder \n0SHARESDela eventet
URL:https://arkiv.barniuppsala.se/event/smabarnsrytmik/
LOCATION:Stadsbiblioteket\, Svartbäcksgatan 17\, Uppsala\, 753 75 \, Sverige
CATEGORIES:Teater och Bio
ATTACH;FMTTYPE=image/jpeg:https://arkiv.barniuppsala.se/wp-content/uploads/2015/08/Baby.jpg
ORGANIZER;CN="Bibliotek%20Uppsala":MAILTO:kundtjanst@bibliotekuppsala.se
GEO:59.8606206;17.6353278
X-APPLE-STRUCTURED-LOCATION;VALUE=URI;X-ADDRESS=Stadsbiblioteket Svartbäcksgatan 17 Uppsala 753 75  Sverige;X-APPLE-RADIUS=500;X-TITLE=Svartbäcksgatan 17:geo:17.6353278,59.8606206
END:VEVENT
END:VCALENDAR