BEGIN:VCALENDAR
VERSION:2.0
PRODID:-//Arkiv för Barn i Uppsala - ECPv5.1.6//NONSGML v1.0//EN
CALSCALE:GREGORIAN
METHOD:PUBLISH
X-WR-CALNAME:Arkiv för Barn i Uppsala
X-ORIGINAL-URL:https://arkiv.barniuppsala.se
X-WR-CALDESC:Händelser för Arkiv för Barn i Uppsala
BEGIN:VTIMEZONE
TZID:Europe/Stockholm
BEGIN:DAYLIGHT
TZOFFSETFROM:+0100
TZOFFSETTO:+0200
TZNAME:CEST
DTSTART:20160327T010000
END:DAYLIGHT
BEGIN:STANDARD
TZOFFSETFROM:+0200
TZOFFSETTO:+0100
TZNAME:CET
DTSTART:20161030T010000
END:STANDARD
END:VTIMEZONE
BEGIN:VEVENT
DTSTART;TZID=Europe/Stockholm:20160416T110000
DTEND;TZID=Europe/Stockholm:20160416T170000
DTSTAMP:20260420T032836
CREATED:20160411T063228Z
LAST-MODIFIED:20200201T025203Z
UID:6728-1460804400-1460826000@arkiv.barniuppsala.se
SUMMARY:Småkryp - Skalbaggar
DESCRIPTION:Småkryp – Skalbaggar hos Biotopia i helgen.\nKom och möt några av världens största skalbaggar och skinnbaggar! Lär känna skalbaggarnas livscykel och deras förunderliga liv. Se hur skalbaggarnas barn\, larverna\, äter sig fram genom trädstammar och grenar. \nTesta dina småkrypskunskaper och tävla om fina priser! \nUtställning med vedpreparat från SLU visar på insektsgnag från uppländska skalbaggar. \n0SHARESDela eventet
URL:https://arkiv.barniuppsala.se/event/smakryp-skalbaggar-2/2016-04-16/
LOCATION:Biotopia – Biologiska museet\, Vasagatan 4\, Uppsala\, 753 13\, Sverige
CATEGORIES:Djur
ATTACH;FMTTYPE=image/jpeg:https://arkiv.barniuppsala.se/wp-content/uploads/2016/04/Skalbagge.jpg
ORGANIZER;CN="Biotopia":MAILTO:info@biotopia.nu
END:VEVENT
END:VCALENDAR