BEGIN:VCALENDAR
VERSION:2.0
PRODID:-//Arkiv för Barn i Uppsala - ECPv5.1.6//NONSGML v1.0//EN
CALSCALE:GREGORIAN
METHOD:PUBLISH
X-WR-CALNAME:Arkiv för Barn i Uppsala
X-ORIGINAL-URL:https://arkiv.barniuppsala.se
X-WR-CALDESC:Händelser för Arkiv för Barn i Uppsala
BEGIN:VTIMEZONE
TZID:Europe/Stockholm
BEGIN:DAYLIGHT
TZOFFSETFROM:+0100
TZOFFSETTO:+0200
TZNAME:CEST
DTSTART:20190331T010000
END:DAYLIGHT
BEGIN:STANDARD
TZOFFSETFROM:+0200
TZOFFSETTO:+0100
TZNAME:CET
DTSTART:20191027T010000
END:STANDARD
END:VTIMEZONE
BEGIN:VEVENT
DTSTART;TZID=Europe/Stockholm:20190608T110000
DTEND;TZID=Europe/Stockholm:20190608T150000
DTSTAMP:20260420T050100
CREATED:20190520T084731Z
LAST-MODIFIED:20190520T084731Z
UID:38077-1559991600-1560006000@arkiv.barniuppsala.se
SUMMARY:Småkrypens förunderliga liv - Familjeaktivitet
DESCRIPTION:Småkrypens förunderliga liv – Familjeaktivitet\nSmåkrypens förunderliga liv. Det surrar\, flyger\, gräver\, fladdrar och kryper på Hågahögen! Låna luppar och håvar och upptäck myllret av liv. Följ humlans vingliga färd tyngd av pollen och hitta ingången till vårsidenbiets barnkammare. Hur många olika fjärilar kan du se? \nDatum: Lördagen 8 juni 2019\nTid: Kl 10-14\nPlats: Kung Björns hög\, Hågadalen.\nPris: Gratis\nAnmälan: Anmälan till Biotopia för exkursionen klockan 10.00 \nTa gärna med fika eller lunchmatsäck. Kung Björns hög är ett härligt utflyktsmål för stora och små! \nEvenemanget är ett samarrangemang med Entomologiska föreningen i Uppland. \nKl 10:00 sker en exkursion om bin och humlor i samma område. \nKung Björns hög i Hågadalen är ett av Uppsala kommuns 11 Smultronställen i naturen. \n\nHågahögen\, även benämnd Björns hög och Kung Björns hög\, är en gravhög från bronsåldern\, belägen i Hågadalen i Bondkyrko socken strax väster om Uppsala. Gravhögen som är cirka 7 meter hög och 45 meter i diameter anlades omkring år 1000 f.Kr. Det är Skandinaviens guldrikaste bronsåldersgrav. \nDet krävdes ungefär 7 500 mandagars arbete att anlägga högen: underst ligger sten i ett fyra meter högt röse\, och därpå ytterligare fyra meter grästorv\, motsvarande mer än 6 fotbollsplaner. Efter att högen anlagts fortsatte den att användas: undersökningar av ytskiktet visar att eldar tänts på den\, och på högen finns utströdda ben av främst ekorrar och hundar\, men även nöt och svin samt ben från flera olika människor\, däribland ett lårben som brutits så att märgen kommit fram. \nHågahögen är belägen på ett gravfält där det finns ytterligare tre gravhögar\, 24 runda stensättningar och två resta stenar. Längre ner längs den dåtida stranden finns fornborgen Predikstolen\, längre upp längs stranden finns flera gravplatser och fornborgar men inget som kan mäta sig med den monumentala Hågahögen. \n\nBesök gärna följade länkar nedan (externa länkar öppnas i nytt fönster/flik) \nKommande event inom djur och natur |Biotopia | Kung Björns Hög \nBild: Pixabay \n0SHARESDela eventet
URL:https://arkiv.barniuppsala.se/event/smakrypens-forunderliga-liv-utflykt/
LOCATION:Smultronstället Kung Björns hög\, Uppsala\, Sverige
CATEGORIES:Barn,Djur,Familj,Kunskap och Lärande,Natur,Utomhusaktivitet,Vandring
ATTACH;FMTTYPE=image/jpeg:https://arkiv.barniuppsala.se/wp-content/uploads/2019/05/bug-3432455_1920-e1558343534805.jpg
END:VEVENT
END:VCALENDAR