BEGIN:VCALENDAR
VERSION:2.0
PRODID:-//Arkiv för Barn i Uppsala - ECPv5.1.6//NONSGML v1.0//EN
CALSCALE:GREGORIAN
METHOD:PUBLISH
X-WR-CALNAME:Arkiv för Barn i Uppsala
X-ORIGINAL-URL:https://arkiv.barniuppsala.se
X-WR-CALDESC:Händelser för Arkiv för Barn i Uppsala
BEGIN:VTIMEZONE
TZID:Europe/Stockholm
BEGIN:DAYLIGHT
TZOFFSETFROM:+0100
TZOFFSETTO:+0200
TZNAME:CEST
DTSTART:20170326T010000
END:DAYLIGHT
BEGIN:STANDARD
TZOFFSETFROM:+0200
TZOFFSETTO:+0100
TZNAME:CET
DTSTART:20171029T010000
END:STANDARD
END:VTIMEZONE
BEGIN:VEVENT
DTSTART;TZID=Europe/Stockholm:20170203T100000
DTEND;TZID=Europe/Stockholm:20170203T110000
DTSTAMP:20260420T195807
CREATED:20170118T152645Z
LAST-MODIFIED:20170210T133615Z
UID:10337-1486116000-1486119600@arkiv.barniuppsala.se
SUMMARY:Småsånger med Ako (Björklingebiblioteket)
DESCRIPTION:Anna-Karin “Ako” Oldeberg sjunger för de allra minsta barnen.\n\n\nAlla syskon  är välkomna också. \nIngen föranmälan men meddela gärna om du kommer med en större grupp. \nTid: 3 februari samt 24 mars kl. 10.00 \n\n\n\nPlats: Björklingebiblioteket \n\n  \nBild från pixabay.com \n0SHARESDela eventet
URL:https://arkiv.barniuppsala.se/event/smasanger-med-ako-11/2017-02-03/
LOCATION:Björklingebiblioteket\, Sandbrovägen 6\, Björklinge\, 743 64\, Sverige
CATEGORIES:Bibliotek,Sång och Musik
ATTACH;FMTTYPE=image/jpeg:https://arkiv.barniuppsala.se/wp-content/uploads/2017/01/bear-1124548_960_720.jpg
ORGANIZER;CN="Bibliotek%20Uppsala":MAILTO:kundtjanst@bibliotekuppsala.se
GEO:60.0261948;17.5550635
X-APPLE-STRUCTURED-LOCATION;VALUE=URI;X-ADDRESS=Björklingebiblioteket Sandbrovägen 6 Björklinge 743 64 Sverige;X-APPLE-RADIUS=500;X-TITLE=Sandbrovägen 6:geo:17.5550635,60.0261948
END:VEVENT
END:VCALENDAR