BEGIN:VCALENDAR
VERSION:2.0
PRODID:-//Arkiv för Barn i Uppsala - ECPv5.1.6//NONSGML v1.0//EN
CALSCALE:GREGORIAN
METHOD:PUBLISH
X-WR-CALNAME:Arkiv för Barn i Uppsala
X-ORIGINAL-URL:https://arkiv.barniuppsala.se
X-WR-CALDESC:Händelser för Arkiv för Barn i Uppsala
BEGIN:VTIMEZONE
TZID:Europe/Stockholm
BEGIN:DAYLIGHT
TZOFFSETFROM:+0100
TZOFFSETTO:+0200
TZNAME:CEST
DTSTART:20160327T010000
END:DAYLIGHT
BEGIN:STANDARD
TZOFFSETFROM:+0200
TZOFFSETTO:+0100
TZNAME:CET
DTSTART:20161030T010000
END:STANDARD
END:VTIMEZONE
BEGIN:VEVENT
DTSTART;TZID=Europe/Stockholm:20160422T110000
DTEND;TZID=Europe/Stockholm:20160422T114000
DTSTAMP:20260420T152741
CREATED:20160419T082811Z
LAST-MODIFIED:20160419T082811Z
UID:6800-1461322800-1461325200@arkiv.barniuppsala.se
SUMMARY:Småsånger med Ako
DESCRIPTION:Småsånger med Ako på Björklingebiblioteket. Fredag 22 april kl 10. \nFör de mindre barnen\, 0-3 år. Äldre syskon är såklart också välkomna! Det är gratis.\nIngen föranmälan behövs men meddela gärna biblioteket om du kommer med  en större barngrupp. \nBild: youtube.com. \n0SHARESDela eventet
URL:https://arkiv.barniuppsala.se/event/smasanger-med-ako-4/
LOCATION:Björklingebiblioteket\, Sandbrovägen 6\, Björklinge\, 743 64\, Sverige
CATEGORIES:Sagostund – barn,Teater och Bio
ATTACH;FMTTYPE=image/jpeg:https://arkiv.barniuppsala.se/wp-content/uploads/2016/04/fingervisan.jpg
ORGANIZER;CN="Bibliotek%20Uppsala":MAILTO:kundtjanst@bibliotekuppsala.se
GEO:60.0261948;17.5550635
X-APPLE-STRUCTURED-LOCATION;VALUE=URI;X-ADDRESS=Björklingebiblioteket Sandbrovägen 6 Björklinge 743 64 Sverige;X-APPLE-RADIUS=500;X-TITLE=Sandbrovägen 6:geo:17.5550635,60.0261948
END:VEVENT
END:VCALENDAR