BEGIN:VCALENDAR
VERSION:2.0
PRODID:-//Arkiv för Barn i Uppsala - ECPv5.1.6//NONSGML v1.0//EN
CALSCALE:GREGORIAN
METHOD:PUBLISH
X-WR-CALNAME:Arkiv för Barn i Uppsala
X-ORIGINAL-URL:https://arkiv.barniuppsala.se
X-WR-CALDESC:Händelser för Arkiv för Barn i Uppsala
BEGIN:VTIMEZONE
TZID:Europe/Stockholm
BEGIN:DAYLIGHT
TZOFFSETFROM:+0100
TZOFFSETTO:+0200
TZNAME:CEST
DTSTART:20160327T010000
END:DAYLIGHT
BEGIN:STANDARD
TZOFFSETFROM:+0200
TZOFFSETTO:+0100
TZNAME:CET
DTSTART:20161030T010000
END:STANDARD
END:VTIMEZONE
BEGIN:VEVENT
DTSTART;TZID=Europe/Stockholm:20161028T111500
DTEND;TZID=Europe/Stockholm:20161028T130000
DTSTAMP:20260421T053941
CREATED:20160804T082125Z
LAST-MODIFIED:20161118T094328Z
UID:7746-1477653300-1477659600@arkiv.barniuppsala.se
SUMMARY:Småsånger med Ako
DESCRIPTION:Anna-Karin Ako Nytell Oldeberg sjunger sånger för och med de allra minsta. Syskon är välkomna! \nNär: Fredag 18 november kl. 10.00 \nVar: Storvretabiblioteket \n0SHARESDela eventet
URL:https://arkiv.barniuppsala.se/event/smasanger-med-ako-7/2016-10-28/
LOCATION:Gottsundabiblioteket\, Valthornsvägen 11\, Uppsala\, 756 50\, Sverige
CATEGORIES:Bibliotek,Sång och Musik
ATTACH;FMTTYPE=image/jpeg:https://arkiv.barniuppsala.se/wp-content/uploads/2016/08/b4b3fb2d-aa55-4054-ab45-c7b435cdd7ba-e1548928602415.jpg
ORGANIZER;CN="Bibliotek%20Uppsala":MAILTO:kundtjanst@bibliotekuppsala.se
GEO:59.8093409;17.6295555
X-APPLE-STRUCTURED-LOCATION;VALUE=URI;X-ADDRESS=Gottsundabiblioteket Valthornsvägen 11 Uppsala 756 50 Sverige;X-APPLE-RADIUS=500;X-TITLE=Valthornsvägen 11:geo:17.6295555,59.8093409
END:VEVENT
END:VCALENDAR