BEGIN:VCALENDAR
VERSION:2.0
PRODID:-//Arkiv för Barn i Uppsala - ECPv5.1.6//NONSGML v1.0//EN
CALSCALE:GREGORIAN
METHOD:PUBLISH
X-WR-CALNAME:Arkiv för Barn i Uppsala
X-ORIGINAL-URL:https://arkiv.barniuppsala.se
X-WR-CALDESC:Händelser för Arkiv för Barn i Uppsala
BEGIN:VTIMEZONE
TZID:Europe/Stockholm
BEGIN:DAYLIGHT
TZOFFSETFROM:+0100
TZOFFSETTO:+0200
TZNAME:CEST
DTSTART:20150329T010000
END:DAYLIGHT
BEGIN:STANDARD
TZOFFSETFROM:+0200
TZOFFSETTO:+0100
TZNAME:CET
DTSTART:20151025T010000
END:STANDARD
END:VTIMEZONE
BEGIN:VEVENT
DTSTART;TZID=Europe/Stockholm:20151212T103000
DTEND;TZID=Europe/Stockholm:20151207T170000
DTSTAMP:20260421T163749
CREATED:20151207T091044Z
LAST-MODIFIED:20151207T091044Z
UID:4592-1449916200-1449507600@arkiv.barniuppsala.se
SUMMARY:Snösagor
DESCRIPTION:På Bälingebiblioteket kan barnen lyssna på Snösagor lördag 12 december kl 10.30. \nAndrea Brånemyr läser sagor om snö för barn 3-5 år\, i bibliotekets mysrum. \nBiblioteket bjuder på saft\, kaffe och kakor. \nBild: pixabay.com. \n  \n0SHARESDela eventet
URL:https://arkiv.barniuppsala.se/event/snosagor/
LOCATION:Bälingebiblioteket\, Lundgårdsvägen 2\, Bälinge\, 743 81
CATEGORIES:Jul,Sagostund – barn
ATTACH;FMTTYPE=image/jpeg:https://arkiv.barniuppsala.se/wp-content/uploads/2015/12/snögumma_gubbe.jpg
ORGANIZER;CN="Bibliotek%20Uppsala":MAILTO:kundtjanst@bibliotekuppsala.se
GEO:59.9489388;17.5303465
X-APPLE-STRUCTURED-LOCATION;VALUE=URI;X-ADDRESS=Bälingebiblioteket Lundgårdsvägen 2 Bälinge 743 81;X-APPLE-RADIUS=500;X-TITLE=Lundgårdsvägen 2:geo:17.5303465,59.9489388
END:VEVENT
END:VCALENDAR