BEGIN:VCALENDAR
VERSION:2.0
PRODID:-//Arkiv för Barn i Uppsala - ECPv5.1.6//NONSGML v1.0//EN
CALSCALE:GREGORIAN
METHOD:PUBLISH
X-WR-CALNAME:Arkiv för Barn i Uppsala
X-ORIGINAL-URL:https://arkiv.barniuppsala.se
X-WR-CALDESC:Händelser för Arkiv för Barn i Uppsala
BEGIN:VTIMEZONE
TZID:Europe/Stockholm
BEGIN:DAYLIGHT
TZOFFSETFROM:+0100
TZOFFSETTO:+0200
TZNAME:CEST
DTSTART:20190331T010000
END:DAYLIGHT
BEGIN:STANDARD
TZOFFSETFROM:+0200
TZOFFSETTO:+0100
TZNAME:CET
DTSTART:20191027T010000
END:STANDARD
END:VTIMEZONE
BEGIN:VEVENT
DTSTART;TZID=Europe/Stockholm:20190508T190000
DTEND;TZID=Europe/Stockholm:20190508T210000
DTSTAMP:20260420T201454
CREATED:20190507T091348Z
LAST-MODIFIED:20190507T091348Z
UID:37628-1557342000-1557349200@arkiv.barniuppsala.se
SUMMARY:Social uppmärksamhet vid funktionsvariationer | Infoteket
DESCRIPTION:Social uppmärksamhet vid funktionsvariationer | Infoteket\nSocial uppmärksamhet vid autism\, ångestsjukdom och andra funktionsnedsättningar brukar ha svårt med att titta efter\, söka och tolka signaler som ansiktsuttryck\, ögonkontakt och röster. \nVarför är det så och vad kan forskning kring uppmärksamhet lära oss om de här tillstånden? \nKom och hör forskare och psykolog Johan Lundin Kleberg berätta och förklara. \n\nDatum: Onsdagen den 8 maj 2019\nTid: 18.00 – 20.00\nPlats: Infoteket om funktionshinder\, Kungsgärdets center\,\nS:t Johannesgatan 28 D\, Uppsala.\nLängd: 2 timmar\nPris: Gratis\nAnmälan: infoteket@regionuppsala.se (mailadress) eller 018-611 66 77 \n\nJohan Lundin Kleberg\nÄr psykolog och forskar om hur barn med autism och små barn som har ett äldre syskon med autism uppmärksammar och förstår händelser i omvärlden. \nStudien utgick från en grupp tonåringar som lider av social fobi. I urvalsgruppen fanns stor variation över olika grader av social ångest och olika starka autistiska symptom. \nI ett experiment utsattes ungdomarna för bilder på ögon med direkt blick eller vardagliga föremål. \n– Vi upptäckte att graden av autistiska drag var kopplat till hur snabbt man tittade på de här ögonen\, säger Johan Lundin Kleberg\, doktorand vid institutionen för psykologi vid Uppsala universitet. \nDet vill säga\, ju mer autistiska drag man har desto långsammare tittade man på ögonen. Forskningen visade också att man sannolikt tittade bort snabbare om man led av grov social ångest. \n– Även om de behandlingar som finns för social fobi eller social ångest i dag är effektiva så är det många som inte får den hjälp de behöver. Exempelvis tror man att behandlingarna kan anpassas bättre genom att skilja ut olika grupper. \n\nBesök gärna följande länkar nedan (extern länk öppnas i nytt fönster/flik)\nKommande event inom Funktionsvariationer | Kommande event inom Kunskap och Lärande | Infoteket | Sveriges Radio P4 Uppland \nBild: Pixabay \n0SHARESDela eventet
URL:https://arkiv.barniuppsala.se/event/social-uppmarksamhet-autism-infoteket/
LOCATION:Infoteket om funktionshinder\, S:t Johannesgatan 28 D\, Uppsala\, 75233
CATEGORIES:För föräldrar,Föreläsning och Kurs,Funktionsvariationer,Kunskap och Lärande,Samhälle,Ungdom
ATTACH;FMTTYPE=image/jpeg:https://arkiv.barniuppsala.se/wp-content/uploads/2019/04/eye-1173863_1920-e1556529312326.jpg
ORGANIZER;CN="Infoteket%20om%20funktionshinder":MAILTO:infoteket@regionuppsala.se
GEO:59.8553013;17.6213622
X-APPLE-STRUCTURED-LOCATION;VALUE=URI;X-ADDRESS=Infoteket om funktionshinder S:t Johannesgatan 28 D Uppsala 75233;X-APPLE-RADIUS=500;X-TITLE=S:t Johannesgatan 28 D:geo:17.6213622,59.8553013
END:VEVENT
END:VCALENDAR