BEGIN:VCALENDAR
VERSION:2.0
PRODID:-//Arkiv för Barn i Uppsala - ECPv5.1.6//NONSGML v1.0//EN
CALSCALE:GREGORIAN
METHOD:PUBLISH
X-WR-CALNAME:Arkiv för Barn i Uppsala
X-ORIGINAL-URL:https://arkiv.barniuppsala.se
X-WR-CALDESC:Händelser för Arkiv för Barn i Uppsala
BEGIN:VTIMEZONE
TZID:Europe/Stockholm
BEGIN:DAYLIGHT
TZOFFSETFROM:+0100
TZOFFSETTO:+0200
TZNAME:CEST
DTSTART:20200329T010000
END:DAYLIGHT
BEGIN:STANDARD
TZOFFSETFROM:+0200
TZOFFSETTO:+0100
TZNAME:CET
DTSTART:20201025T010000
END:STANDARD
END:VTIMEZONE
BEGIN:VEVENT
DTSTART;VALUE=DATE:20200727
DTEND;VALUE=DATE:20200801
DTSTAMP:20260420T172327
CREATED:20200811T075930Z
LAST-MODIFIED:20200811T075930Z
UID:65461-1595808000-1596239999@arkiv.barniuppsala.se
SUMMARY:Sommarsimskola i Spillersboda
DESCRIPTION:Sommarsimskola i Spillersboda\nSimskolor i Roslagen anordnar under sommaren 2020 simskola utomhus på olika platser i Roslagen. Under vecka 31 hålls simskolan i Spillersboda. \nUnder sommaren 2020 gäller följande villkor relaterat till samhällsspridning av corona-viruset:\nBåda barn och vuxna ska vara helt friska för att delta i simskolan. Barngrupperna hålls små och familjerna ansvarar för att sprida ut sig på badplatsen. \nDatum: måndag 27 juli – fredag 31 juli\nPlats: Spillersboda\nÅlder: Från 4 år. Gruppindelning\nPris: 750 kr\nAnmälan: Klicka här så öppnas ett nytt fönster / flik\nKontakt: info@simskoloriroslagen.se \n  \n\nHitta hit\nMed bil: Från södra infarten till Norrtälje stad åker ni E18 österut mot Kapellskär i cirka 6-7 minuter. Tag avfarten mot Spillersboda (tredje avfarten\, märkt med skylt mot Spillersboda). Fortsätt längs vägen i cirka 4 km tills ni kommer till bygghandeln (XL Bygg) – där tar ni vänster. Efter cirka 100 meter ser ni vägmärket för Badplats och två stora parkeringar. Ni är framme. Det tar 14 min från Norrtälje centrum. \nMed buss: Linje 630 eller 631 – hållplats Spillersboda Såg (näst sista). Därefter gång i cirka 500 meter. \n  \n\nBesök gärna länkarna nedan (externa länkar öppnas i ett nytt fönster/flik).\nArrangörens hemsida| Fakta om badplatsen | Hitta badplatser \nFoto: Porapak Apichodilok \n0SHARESDela eventet
URL:https://arkiv.barniuppsala.se/event/sommarsimskola-spillersboda/
LOCATION:Spillersboda badplats\, Stubboda\, Spillersboda\, 76197\, Sverige
CATEGORIES:Ålderskategori,Anmälan,Anmälan / Kostnad,Bad,Barn,Eventkategorier,Föreläsning och Kurs,Geografisk kategori,Kunskap och Lärande,Läger,Natur,Norrtälje Kommun,Simskola och simläger,Skollov,Sommarlov,Sport & Motion,Utomhusaktivitet
ATTACH;FMTTYPE=image/jpeg:https://arkiv.barniuppsala.se/wp-content/uploads/2020/07/active-blue-blur-child-346776-scaled-e1595245899181.jpg
ORGANIZER;CN="Simskolor%20i%20Roslagen":MAILTO:info@simskoloriroslagen.se
END:VEVENT
END:VCALENDAR