BEGIN:VCALENDAR
VERSION:2.0
PRODID:-//Arkiv för Barn i Uppsala - ECPv5.1.6//NONSGML v1.0//EN
CALSCALE:GREGORIAN
METHOD:PUBLISH
X-WR-CALNAME:Arkiv för Barn i Uppsala
X-ORIGINAL-URL:https://arkiv.barniuppsala.se
X-WR-CALDESC:Händelser för Arkiv för Barn i Uppsala
BEGIN:VTIMEZONE
TZID:Europe/Stockholm
BEGIN:DAYLIGHT
TZOFFSETFROM:+0100
TZOFFSETTO:+0200
TZNAME:CEST
DTSTART:20170326T010000
END:DAYLIGHT
BEGIN:STANDARD
TZOFFSETFROM:+0200
TZOFFSETTO:+0100
TZNAME:CET
DTSTART:20171029T010000
END:STANDARD
END:VTIMEZONE
BEGIN:VEVENT
DTSTART;TZID=Europe/Stockholm:20171123T143000
DTEND;TZID=Europe/Stockholm:20171123T160000
DTSTAMP:20260420T163755
CREATED:20171121T095955Z
LAST-MODIFIED:20171121T095955Z
UID:16725-1511447400-1511452800@arkiv.barniuppsala.se
SUMMARY:Spektakelslöjd
DESCRIPTION:Spektakelslöjd\n\n\nSkapa och slöjda på Stenhagenbiblioteket! Prova olika material och slöjdtekniker. För dig 7–12 år. \n\n\n\nLedare: Eva-Lotta Staffas. \nTid och plats\nTorsdagar kl. 14.30–16.00 \nStenhagenbiblioteket \nSamarrangemang med Studiefrämjandet \nBild från pixabay.com \n\n 0SHARESDela eventet
URL:https://arkiv.barniuppsala.se/event/spektakelslojd-14/
LOCATION:Stenhagenbiblioteket\, Herrhagsvägen 8\, Uppsala\, 752 67 
CATEGORIES:Barn,Bibliotek,Lärande lek,Ungdom
ATTACH;FMTTYPE=image/jpeg:https://arkiv.barniuppsala.se/wp-content/uploads/2017/11/yarn-1615524_640.jpg
ORGANIZER;CN="Stenhagenbiblioteket":MAILTO:stenhagenbiblioteket@uppsala.se
GEO:59.8505374;17.5582115
X-APPLE-STRUCTURED-LOCATION;VALUE=URI;X-ADDRESS=Stenhagenbiblioteket Herrhagsvägen 8 Uppsala 752 67;X-APPLE-RADIUS=500;X-TITLE=Herrhagsvägen 8:geo:17.5582115,59.8505374
END:VEVENT
END:VCALENDAR