BEGIN:VCALENDAR
VERSION:2.0
PRODID:-//Arkiv för Barn i Uppsala - ECPv5.1.6//NONSGML v1.0//EN
CALSCALE:GREGORIAN
METHOD:PUBLISH
X-WR-CALNAME:Arkiv för Barn i Uppsala
X-ORIGINAL-URL:https://arkiv.barniuppsala.se
X-WR-CALDESC:Händelser för Arkiv för Barn i Uppsala
BEGIN:VTIMEZONE
TZID:Europe/Stockholm
BEGIN:DAYLIGHT
TZOFFSETFROM:+0100
TZOFFSETTO:+0200
TZNAME:CEST
DTSTART:20150329T010000
END:DAYLIGHT
BEGIN:STANDARD
TZOFFSETFROM:+0200
TZOFFSETTO:+0100
TZNAME:CET
DTSTART:20151025T010000
END:STANDARD
END:VTIMEZONE
BEGIN:VEVENT
DTSTART;TZID=Europe/Stockholm:20151001T153000
DTEND;TZID=Europe/Stockholm:20151001T173000
DTSTAMP:20260421T041349
CREATED:20150827T064658Z
LAST-MODIFIED:20150930T123243Z
UID:3264-1443713400-1443720600@arkiv.barniuppsala.se
SUMMARY:Spektakelslöjd på Stenhagenbiblioteket
DESCRIPTION:10 torsdagar under hösten med start 24 september med uppehåll under höstlovet.\n \n\n	Alla barn från 7 år och uppåt är välkomna att prova spektakelslöjd med Eva-Lotta Staffas och Sofia Thorell.\n \n\n	Gratis och ingen föranmälan behövs. Längd: 2 timmar. Målgrupp: Från 7 år.\n \n\n	Arr: Studiefrämjandet\, Länshemslöjdskonsulenterna och Stenhagenbiblioteket. \n0SHARESDela eventet
URL:https://arkiv.barniuppsala.se/event/spektakelslojd-2/
LOCATION:Stenhagenbiblioteket\, Herrhagsvägen 8\, Uppsala\, 752 67 
CATEGORIES:Kunskap och Lärande
GEO:59.8505374;17.5582115
X-APPLE-STRUCTURED-LOCATION;VALUE=URI;X-ADDRESS=Stenhagenbiblioteket Herrhagsvägen 8 Uppsala 752 67;X-APPLE-RADIUS=500;X-TITLE=Herrhagsvägen 8:geo:17.5582115,59.8505374
END:VEVENT
END:VCALENDAR