BEGIN:VCALENDAR
VERSION:2.0
PRODID:-//Arkiv för Barn i Uppsala - ECPv5.1.6//NONSGML v1.0//EN
CALSCALE:GREGORIAN
METHOD:PUBLISH
X-WR-CALNAME:Arkiv för Barn i Uppsala
X-ORIGINAL-URL:https://arkiv.barniuppsala.se
X-WR-CALDESC:Händelser för Arkiv för Barn i Uppsala
BEGIN:VTIMEZONE
TZID:Europe/Stockholm
BEGIN:DAYLIGHT
TZOFFSETFROM:+0100
TZOFFSETTO:+0200
TZNAME:CEST
DTSTART:20150329T010000
END:DAYLIGHT
BEGIN:STANDARD
TZOFFSETFROM:+0200
TZOFFSETTO:+0100
TZNAME:CET
DTSTART:20151025T010000
END:STANDARD
END:VTIMEZONE
BEGIN:VEVENT
DTSTART;TZID=Europe/Stockholm:20151126T143000
DTEND;TZID=Europe/Stockholm:20151126T163000
DTSTAMP:20260421T214636
CREATED:20150827T074131Z
LAST-MODIFIED:20151124T101205Z
UID:3281-1448548200-1448555400@arkiv.barniuppsala.se
SUMMARY:Spektakelslöjd
DESCRIPTION:Torsdag\,  26 november 2015. Tid: 14:30. 10 torsdagar under hösten med start 24 september! \nAlla barn från 7 år och uppåt är välkomna att prova spektakelslöjd med Eva-Lotta Staffas och Sofia Thorell. Vi skapar i olika material\, och resultatet kan bli hur som helst och vad som helst! Spektakelslöjd på Stenhagenbiblioteket varje torsdag under våren med uppehåll under höstlovet. \nGratis och ingen föranmälan behövs. Längd: 2 timmar. Målgrupp: Från 7 år. \n  \n  \n  \n  \n0SHARESDela eventet
URL:https://arkiv.barniuppsala.se/event/spektakelslojd-9/
LOCATION:Stenhagenbiblioteket\, Herrhagsvägen 8\, Uppsala\, 752 67 
CATEGORIES:Kunskap och Lärande
GEO:59.8505374;17.5582115
X-APPLE-STRUCTURED-LOCATION;VALUE=URI;X-ADDRESS=Stenhagenbiblioteket Herrhagsvägen 8 Uppsala 752 67;X-APPLE-RADIUS=500;X-TITLE=Herrhagsvägen 8:geo:17.5582115,59.8505374
END:VEVENT
END:VCALENDAR