BEGIN:VCALENDAR
VERSION:2.0
PRODID:-//Arkiv för Barn i Uppsala - ECPv5.1.6//NONSGML v1.0//EN
CALSCALE:GREGORIAN
METHOD:PUBLISH
X-WR-CALNAME:Arkiv för Barn i Uppsala
X-ORIGINAL-URL:https://arkiv.barniuppsala.se
X-WR-CALDESC:Händelser för Arkiv för Barn i Uppsala
BEGIN:VTIMEZONE
TZID:Europe/Stockholm
BEGIN:DAYLIGHT
TZOFFSETFROM:+0100
TZOFFSETTO:+0200
TZNAME:CEST
DTSTART:20150329T010000
END:DAYLIGHT
BEGIN:STANDARD
TZOFFSETFROM:+0200
TZOFFSETTO:+0100
TZNAME:CET
DTSTART:20151025T010000
END:STANDARD
END:VTIMEZONE
BEGIN:VEVENT
DTSTART;TZID=Europe/Stockholm:20151217T163000
DTEND;TZID=Europe/Stockholm:20151217T183000
DTSTAMP:20260419T211002
CREATED:20151211T070156Z
LAST-MODIFIED:20151211T070156Z
UID:4635-1450369800-1450377000@arkiv.barniuppsala.se
SUMMARY:Spela X-Wing på bibblan!
DESCRIPTION:Bli en del av Star Wars universumet för en stund\, ta befäl över ett eller flera rymdskepp i en galax långt\, långt borta. Kämpa mot fienden i snabba\, tuffa rymdstrider. Spela X-Wing på bibblan! \nKom till Brantingsbiblioteket och spela X-Wing\, ett fartfyllt figurspel från Fantasy Flight Games. \nFrån 10 år och uppåt. Torsdag 17 december kl 16.30. \nBild: flickr.com. \n0SHARESDela eventet
URL:https://arkiv.barniuppsala.se/event/spela-x-wing-pa-bibblan/
LOCATION:Brantingsbiblioteket\, Brantingstorg 5\, 754 34
CATEGORIES:Spel & tävling
ATTACH;FMTTYPE=image/png:https://arkiv.barniuppsala.se/wp-content/uploads/2015/12/starwars.png
ORGANIZER;CN="Bibliotek%20Uppsala":MAILTO:kundtjanst@bibliotekuppsala.se
END:VEVENT
END:VCALENDAR