BEGIN:VCALENDAR
VERSION:2.0
PRODID:-//Arkiv för Barn i Uppsala - ECPv5.1.6//NONSGML v1.0//EN
CALSCALE:GREGORIAN
METHOD:PUBLISH
X-WR-CALNAME:Arkiv för Barn i Uppsala
X-ORIGINAL-URL:https://arkiv.barniuppsala.se
X-WR-CALDESC:Händelser för Arkiv för Barn i Uppsala
BEGIN:VTIMEZONE
TZID:Europe/Stockholm
BEGIN:DAYLIGHT
TZOFFSETFROM:+0100
TZOFFSETTO:+0200
TZNAME:CEST
DTSTART:20170326T010000
END:DAYLIGHT
BEGIN:STANDARD
TZOFFSETFROM:+0200
TZOFFSETTO:+0100
TZNAME:CET
DTSTART:20171029T010000
END:STANDARD
END:VTIMEZONE
BEGIN:VEVENT
DTSTART;TZID=Europe/Stockholm:20170222T130000
DTEND;TZID=Europe/Stockholm:20170222T140000
DTSTAMP:20260421T004350
CREATED:20170222T125846Z
LAST-MODIFIED:20170222T125846Z
UID:11303-1487768400-1487772000@arkiv.barniuppsala.se
SUMMARY:Sportlov. En förtrollning för mycket.
DESCRIPTION:Varför sitter det en talande räv på huvudkudden? Varför tittar alla så konstigt på er? \nOm ni bara kunde minnas vad ni gjorde igår… Rollspel med Sanna Barsk. \nFör dig som är 11-15 år. \n\n\n\nFöranmälan från 6/2 till biblioteket\, begränsat antal platser. \n\nSävjabiblioteket. \n  \n\n 0SHARESDela eventet
URL:https://arkiv.barniuppsala.se/event/sportlov-en-fortrollning-mycket-2/
LOCATION:Sävjabiblioteket\, Västgötaresan\, Uppsala\, 757 54\, Sverige
CATEGORIES:Bibliotek,Prova på,Sportlov,Ungdom
ATTACH;FMTTYPE=image/jpeg:https://arkiv.barniuppsala.se/wp-content/uploads/2017/02/rollspell-2.jpg
GEO:59.8085971;17.7022024
X-APPLE-STRUCTURED-LOCATION;VALUE=URI;X-ADDRESS=Sävjabiblioteket Västgötaresan Uppsala 757 54 Sverige;X-APPLE-RADIUS=500;X-TITLE=Västgötaresan:geo:17.7022024,59.8085971
END:VEVENT
END:VCALENDAR