BEGIN:VCALENDAR
VERSION:2.0
PRODID:-//Arkiv för Barn i Uppsala - ECPv5.1.6//NONSGML v1.0//EN
CALSCALE:GREGORIAN
METHOD:PUBLISH
X-WR-CALNAME:Arkiv för Barn i Uppsala
X-ORIGINAL-URL:https://arkiv.barniuppsala.se
X-WR-CALDESC:Händelser för Arkiv för Barn i Uppsala
BEGIN:VTIMEZONE
TZID:Europe/Stockholm
BEGIN:DAYLIGHT
TZOFFSETFROM:+0100
TZOFFSETTO:+0200
TZNAME:CEST
DTSTART:20200329T010000
END:DAYLIGHT
BEGIN:STANDARD
TZOFFSETFROM:+0200
TZOFFSETTO:+0100
TZNAME:CET
DTSTART:20201025T010000
END:STANDARD
END:VTIMEZONE
BEGIN:VEVENT
DTSTART;TZID=Europe/Stockholm:20200916T150000
DTEND;TZID=Europe/Stockholm:20200916T170000
DTSTAMP:20260420T102456
CREATED:20200830T114558Z
LAST-MODIFIED:20200908T110210Z
UID:65732-1600268400-1600275600@arkiv.barniuppsala.se
SUMMARY:Språkcafé - Gottsunda kyrka
DESCRIPTION:Språkcafé – Gottsunda kyrka\nSamtal\, språkträning och ett sätt att träffa nya bekanta och bli mer bekant med Uppsala och Uppsalaborna. \nHär får du som är ny i Sverige umgås med svensktalande\, samtala om livet och öva dig på svenska språket. Du kan också få hjälp med läxor och med att förstå information. \nVad händer på ett språkcafé? Klicka här för att se ett kort videoklipp (öppnas i ny flik). \nSpråkcaféet kommer hållas varje onsdag klockan 15-17 och första datumet för hösten är den 16 september \nDatum: Onsdagar med start 16 september 2020 till och med 9 december 2020\nTid: Klockan 15-17\nPlats: Gottsunda kyrka\, Gottsunda centrum\nKontaktperson: Mona Gustavsson\, 018-430 38 33\n \n\n\nBesök gärna följande länkar nedan (externa länka öppnas i nytt fönster/flik).\nAlla språkcaféer hos Svenska kyrkan i Uppsala | Event för dig som vill träna svenska  \nFoto: Nani Williams \n\n 0SHARESDela eventet
URL:https://arkiv.barniuppsala.se/event/sprakcafe-gottsunda-ht2020/2020-09-16/
LOCATION:Gottsunda kyrka\, Gottsunda centrum\, Box 897\, Uppsala\, 751 08\, Sverige
CATEGORIES:Ålderskategori,Anmälan / Kostnad,Barn,Eventkategorier,Familj,Flerspråkighet,För föräldrar,Geografisk kategori,Gottsunda,Gratis,Identitet,Ingen föranmälan,Kunskap och Lärande,Läxhjälp,Ny i Sverige,Samhälle,Språkcafé,Ungdom,Uppsala Kommun,? Uppsala
ATTACH;FMTTYPE=image/jpeg:https://arkiv.barniuppsala.se/wp-content/uploads/2020/07/nani-williams-6PpLqUlCA0s-unsplash-scaled-e1596197041562.jpg
END:VEVENT
END:VCALENDAR