BEGIN:VCALENDAR
VERSION:2.0
PRODID:-//Arkiv för Barn i Uppsala - ECPv5.1.6//NONSGML v1.0//EN
CALSCALE:GREGORIAN
METHOD:PUBLISH
X-WR-CALNAME:Arkiv för Barn i Uppsala
X-ORIGINAL-URL:https://arkiv.barniuppsala.se
X-WR-CALDESC:Händelser för Arkiv för Barn i Uppsala
BEGIN:VTIMEZONE
TZID:Europe/Stockholm
BEGIN:DAYLIGHT
TZOFFSETFROM:+0100
TZOFFSETTO:+0200
TZNAME:CEST
DTSTART:20180325T010000
END:DAYLIGHT
BEGIN:STANDARD
TZOFFSETFROM:+0200
TZOFFSETTO:+0100
TZNAME:CET
DTSTART:20181028T010000
END:STANDARD
END:VTIMEZONE
BEGIN:VEVENT
DTSTART;TZID=Europe/Stockholm:20181005T100000
DTEND;TZID=Europe/Stockholm:20181005T120000
DTSTAMP:20260420T172225
CREATED:20181001T162228Z
LAST-MODIFIED:20181001T162228Z
UID:22942-1538733600-1538740800@arkiv.barniuppsala.se
SUMMARY:Språkutveckling genom samspel på Knivsta bibliotek
DESCRIPTION:Språkutveckling genom samspel på Knivsta bibliotek\nFör föräldralediga med barn 0-3 år. \nVälkomna att lyssna på logoped Christina Johnsson och specialpedagog Åsa Lövgren\, som berättar hur du som förälder kan stimulera ditt barns språkutveckling. \nEfteråt har du möjlighet att ställa frågor\, få boktips och utforska biblioteket i lugn och ro. \nBiblioteket bjuder de vuxna på fika och de minsta på osötat tilltugg.\nSyskon är också välkomna! \nDatum: 5 oktober\nTid: 9:00-11:00\nPlats: Aktivitetsrummet\, Knivsta Bibliotek\nPris: Gratis\nÅlder: För föräldralediga med barn 0-3 år. Syskon är också välkomna!\nAnmälan: tove.frankow-crivellaro@knivsta.se \n  \n\nBesök gärna länken nedan (öppnas i nytt fönster/flik).\nKnivsta Bibliotek \nBild: pixabay.com \n0SHARESDela eventet
URL:https://arkiv.barniuppsala.se/event/sprakutveckling-genom-samspel-knivsta/
LOCATION:Knivsta bibliotek\, Centralvägen 18\, Knivsta\, 741 40\, Sverige
CATEGORIES:Barn,Bibliotek,Kunskap och Lärande,Ungdom
ATTACH;FMTTYPE=image/jpeg:https://arkiv.barniuppsala.se/wp-content/uploads/2018/09/people-3120717_1920-e1538414402350.jpg
GEO:59.7276856;17.7857663
X-APPLE-STRUCTURED-LOCATION;VALUE=URI;X-ADDRESS=Knivsta bibliotek Centralvägen 18 Knivsta 741 40 Sverige;X-APPLE-RADIUS=500;X-TITLE=Centralvägen 18:geo:17.7857663,59.7276856
END:VEVENT
END:VCALENDAR