BEGIN:VCALENDAR
VERSION:2.0
PRODID:-//Arkiv för Barn i Uppsala - ECPv5.1.6//NONSGML v1.0//EN
CALSCALE:GREGORIAN
METHOD:PUBLISH
X-WR-CALNAME:Arkiv för Barn i Uppsala
X-ORIGINAL-URL:https://arkiv.barniuppsala.se
X-WR-CALDESC:Händelser för Arkiv för Barn i Uppsala
BEGIN:VTIMEZONE
TZID:Europe/Stockholm
BEGIN:DAYLIGHT
TZOFFSETFROM:+0100
TZOFFSETTO:+0200
TZNAME:CEST
DTSTART:20180325T010000
END:DAYLIGHT
BEGIN:STANDARD
TZOFFSETFROM:+0200
TZOFFSETTO:+0100
TZNAME:CET
DTSTART:20181028T010000
END:STANDARD
END:VTIMEZONE
BEGIN:VEVENT
DTSTART;TZID=Europe/Stockholm:20180826T120000
DTEND;TZID=Europe/Stockholm:20180826T160000
DTSTAMP:20260419T212601
CREATED:20180812T211030Z
LAST-MODIFIED:20180812T211842Z
UID:21695-1535284800-1535299200@arkiv.barniuppsala.se
SUMMARY:Stadsskogens dag 2018
DESCRIPTION:Stadsskogens dag 2018\nEn dag om året arrangerar vi Stadsskogens dag. Under dagen finns det aktiviteter för både stora och små som vill utforska naturen. \nI år äger Stadsskogens dag rum söndagen den 26 augusti klockan 11.00–15.00. \n  \n\n– Program –\nVattentornet\n\n11.00 Friluftsgudstjänst vid vattentornet\, Helga Trefaldighets församling. Kaffe med bullar finns att köpa. Färdtjänst kan köra in från Gläntan\, Norbyvägen. Ta gärna med stol eller sittunderlag.\n11.00 Prova på löparskola och springlekar med Runacademy.\nCa 30 minuter. Ett lättsamt och lätt fysiskt pass där grundförutsättningarn för löpning gås igenom\, med rörlighet\, styrka\, grunderna i löpteknik och löpskolning. Lite teori\, lite blandade fysiska övningar. Ska passa barn och vuxna.\n11.00 – 15.00 Ponnyridning med 4H.\n11.00 – 15.00 Vattentornet visas.\n12.30 Postakademiska kammarkören uppträder.\n13.00 Sångstund för barn.\n14.00 Prova på löparskola och springlekar med Runacademy.\nCa 30 minuters löpning. Ett roligt och pulshöjande löppass som utformas för att passa alla nivåer.\n\nMarknadsgatan\n\n11.00 – 15.00 Konsthantverkare och föreningar ställer ut och säljer produkter.\n11.00 – 15.00 Titta på levande bin hos Uppsala Biodlarförening.\n11.00 – 15.00 Tillverka pins med Studiefrämjandets kulturskola.\n11.00 – 15.00 Tälj och slöjda med Fyrisgården.\n12.00 Svampvandring (cirka 45 min) med Uppsala Svampklubb.\n13.00–14.00 Brandförsvaret rycker in (om de inte måste rycka ut…).\n14.00 Svampvandring (cirka 45 min) med Uppsala Svampklubb.\n\nLöfgrenska slätten\n\n11.00 – 15.00 Prova kolbullar med Uppsala kommun.\n11.00 – 15.00 Korvgrillning. Ta gärna med din egen korv.\n11.00 – 15.00 Möt Uppsalas politiska partier.\n11.00 – 15.00 Besök Biotopia och öva på allemansrätten.\n13.00 Guidning längs Linnéstigen med Biotopia\n\n  \n\nFör mer information om Stadsskogens dag\, besök gärna dessa länkar.\n(Länkarna öppnas i ett nytt fönster/flik.) \nUppsala Kommun | Biotopia | Helga Trefaldighets församling | Uppsala Biodlarförening | Uppsala Svampklubb | 4H | Studiefrämjandets kulturskola | Runacademy \nBild: commons.wikimedia.org \n0SHARESDela eventet
URL:https://arkiv.barniuppsala.se/event/stadsskogens-dag-2018/
LOCATION:Stadsskogen\, Uppsala\, Sverige
CATEGORIES:Barn,Djur,Kunskap och Lärande,Natur,Sång och Musik,Sport & Motion,Ungdom,Utomhusaktivitet,Vandring
ATTACH;FMTTYPE=image/jpeg:https://arkiv.barniuppsala.se/wp-content/uploads/2018/08/640px-Stadsskogen_Uppsala.jpg
GEO:59.837483;17.623167
END:VEVENT
END:VCALENDAR