BEGIN:VCALENDAR
VERSION:2.0
PRODID:-//Arkiv för Barn i Uppsala - ECPv5.1.6//NONSGML v1.0//EN
CALSCALE:GREGORIAN
METHOD:PUBLISH
X-WR-CALNAME:Arkiv för Barn i Uppsala
X-ORIGINAL-URL:https://arkiv.barniuppsala.se
X-WR-CALDESC:Händelser för Arkiv för Barn i Uppsala
BEGIN:VTIMEZONE
TZID:Europe/Stockholm
BEGIN:DAYLIGHT
TZOFFSETFROM:+0100
TZOFFSETTO:+0200
TZNAME:CEST
DTSTART:20200329T010000
END:DAYLIGHT
BEGIN:STANDARD
TZOFFSETFROM:+0200
TZOFFSETTO:+0100
TZNAME:CET
DTSTART:20201025T010000
END:STANDARD
END:VTIMEZONE
BEGIN:VEVENT
DTSTART;TZID=Europe/Stockholm:20200707T130000
DTEND;TZID=Europe/Stockholm:20200707T160000
DTSTAMP:20260421T205104
CREATED:20200630T124727Z
LAST-MODIFIED:20200630T124727Z
UID:65046-1594126800-1594137600@arkiv.barniuppsala.se
SUMMARY:Stop motion-animation för barn på Uppsala stadsbibliotek
DESCRIPTION:Stop motion-animation för barn på Uppsala stadsbibliotek\nSkapa din egen berättelse med stop motion-animation\nVälkomna att delta i en workshop i stop motion-animation med konstnärerna och konstpedagogerna Adina Almén och Henny Linn Kjellberg. Ni utgår från Sommarbokens tema “Genom portalen”\, och du får prova på att skapa och illustrera\, eller animera din egen berättelse. \nNi arbetar med iPads och cut out-teknik med pappersklipp. Rita\, klipp\, animera och lägg till enklare ljudeffekter och musik. \nDatum: Tisdag 7 juli 2020.\nTid: 13:00-16:00.\nPlats: Uppsala stadsbibliotek\, Svartbäcksgatan 17\, 753 75 Uppsala.\nÅlder: För barn 8-12 år\nAnmälan: Föranmälan till kundtjanst@bibliotekuppsala.se eller 018-7271710.\nPris: Kostnadsfritt\nÖvrigt: Begränsat antal platser. Drop in i mån av plats. \n  \n\nOm Bibliotek Uppsala\nBibliotek Uppsala är en plats för möten\, kunskap och upplevelser. Tanken är att ge alla Uppsalabor tillgång till berättelser och information som kan ge nya insikter och nya perspektiv. Genom ett författarsamtal\, en bok\, en utställning\, en sagostund eller någon annan av de hundratals aktiviteter och arrangemang som erbjuds varje år. \n  \n\nBesök gärna länkarna nedan (externa länkar öppnas i ett nytt fönster/flik).\nStop motion på stadsbiblioteket | Sommarlovsaktiviteter på Uppsalas bibliotek | Andra sommarlovsaktiviteter i Uppland \nFoto: stux \n0SHARESDela eventet
URL:https://arkiv.barniuppsala.se/event/stop-motion-animation-uppsala-stadsbibliotek/
LOCATION:Uppsala stadsbibliotek\, Svartbäcksgatan 17\, Uppsala\, 753 75\, Sverige
CATEGORIES:Ålderskategori,Anmälan,Anmälan / Kostnad,Barn,Centrum,Eventkategorier,Geografisk kategori,Gratis,Kunskap och Lärande,Lärande lek,Prova på,Skollov,Sommarlov,Workshop,? Uppsala
ATTACH;FMTTYPE=image/jpeg:https://arkiv.barniuppsala.se/wp-content/uploads/2020/06/balloon-1014411_1280-e1593519541136.jpg
ORGANIZER;CN="Bibliotek%20Uppsala":MAILTO:kundtjanst@bibliotekuppsala.se
GEO:59.8606206;17.6353278
X-APPLE-STRUCTURED-LOCATION;VALUE=URI;X-ADDRESS=Uppsala stadsbibliotek Svartbäcksgatan 17 Uppsala 753 75 Sverige;X-APPLE-RADIUS=500;X-TITLE=Svartbäcksgatan 17:geo:17.6353278,59.8606206
END:VEVENT
END:VCALENDAR