BEGIN:VCALENDAR
VERSION:2.0
PRODID:-//Arkiv för Barn i Uppsala - ECPv5.1.6//NONSGML v1.0//EN
CALSCALE:GREGORIAN
METHOD:PUBLISH
X-WR-CALNAME:Arkiv för Barn i Uppsala
X-ORIGINAL-URL:https://arkiv.barniuppsala.se
X-WR-CALDESC:Händelser för Arkiv för Barn i Uppsala
BEGIN:VTIMEZONE
TZID:Europe/Stockholm
BEGIN:DAYLIGHT
TZOFFSETFROM:+0100
TZOFFSETTO:+0200
TZNAME:CEST
DTSTART:20170326T010000
END:DAYLIGHT
BEGIN:STANDARD
TZOFFSETFROM:+0200
TZOFFSETTO:+0100
TZNAME:CET
DTSTART:20171029T010000
END:STANDARD
END:VTIMEZONE
BEGIN:VEVENT
DTSTART;TZID=Europe/Stockholm:20170331T140000
DTEND;TZID=Europe/Stockholm:20170331T143000
DTSTAMP:20260419T225105
CREATED:20170327T130428Z
LAST-MODIFIED:20170327T132421Z
UID:12095-1490968800-1490970600@arkiv.barniuppsala.se
SUMMARY:Stora & Små. Visning för vuxna med barn 0-5 år.
DESCRIPTION:Visningar för vuxna och barn 0-5 år.\nFinns det större syskon med som är sugna på att skapa tar vi en sväng ner i verkstan 13.30-14.30. \nFöräldrar och andra vuxna som är hemma med barn på dagarna är välkomna till museet.\nVid fyra fredagseftermiddagar ges visningar som är anpassade till barnvagnslunk\noch små barns upptäckarglädje. Vi närmar oss utställningarna på ett öppet och lekfullt\nvis. Genom konsten vill vi inspirera till nya känslor och tankar hos både barn och vuxna. \nKostnadfritt. \nAlla är varmt välkomna!!!. \n\n\n 0SHARESDela eventet
URL:https://arkiv.barniuppsala.se/event/stora-sma-visning-vuxna-med-barn-0-5-ar-nicholas-hlobo/
LOCATION:Uppsala konstmuseum\, Drottnings Christinas väg 1E\, Uppsala\, 752 37\, Sverige
CATEGORIES:Museum,Prova på,Ungdom
ATTACH;FMTTYPE=image/jpeg:https://arkiv.barniuppsala.se/wp-content/uploads/2017/02/uppsala_konstmuseum_1.jpg
ORGANIZER;CN="Uppsala%20konstmuseum":MAILTO:konstmuseum@uppsala.se
GEO:59.8532935;17.6351313
X-APPLE-STRUCTURED-LOCATION;VALUE=URI;X-ADDRESS=Uppsala konstmuseum Drottnings Christinas väg 1E Uppsala 752 37 Sverige;X-APPLE-RADIUS=500;X-TITLE=Drottnings Christinas väg 1E:geo:17.6351313,59.8532935
END:VEVENT
END:VCALENDAR