BEGIN:VCALENDAR
VERSION:2.0
PRODID:-//Arkiv för Barn i Uppsala - ECPv5.1.6//NONSGML v1.0//EN
CALSCALE:GREGORIAN
METHOD:PUBLISH
X-WR-CALNAME:Arkiv för Barn i Uppsala
X-ORIGINAL-URL:https://arkiv.barniuppsala.se
X-WR-CALDESC:Händelser för Arkiv för Barn i Uppsala
BEGIN:VTIMEZONE
TZID:Europe/Stockholm
BEGIN:DAYLIGHT
TZOFFSETFROM:+0100
TZOFFSETTO:+0200
TZNAME:CEST
DTSTART:20160327T010000
END:DAYLIGHT
BEGIN:STANDARD
TZOFFSETFROM:+0200
TZOFFSETTO:+0100
TZNAME:CET
DTSTART:20161030T010000
END:STANDARD
END:VTIMEZONE
BEGIN:VEVENT
DTSTART;TZID=Europe/Stockholm:20160417T150000
DTEND;TZID=Europe/Stockholm:20160411T120000
DTSTAMP:20260420T105752
CREATED:20160411T115359Z
LAST-MODIFIED:20160411T115359Z
UID:6751-1460905200-1460376000@arkiv.barniuppsala.se
SUMMARY:Storsjung
DESCRIPTION:Storsjung\, öppna förskolans årliga allsångskonsert tillsammans med Niklas Dackborns orkester.\nFör barn från 1 år och uppåt tillsammans med vuxen. Värmlands nation\, Stora salen\, söndag 17 april\, kl 11 och 14. \nInträde: 40 kr vuxen\, 20 kr barn (går oavkortat till behövande barnfamiljer i Uppsala\, via Diakonins hus). \nBiljetter säljs vid entrén. Ingång från Riddartorget. \nArrangörer är Svenska kyrkan Uppsala\, i samarbete med SENSUS studieförbund. \nBild: Illustration Josefine Lind\, hämtad från svenskakyrkan.se. \n0SHARESDela eventet
URL:https://arkiv.barniuppsala.se/event/storsjung-2/
LOCATION:Värmlands nation\, Ingmar Bergmansgatan 2\, Uppsala\, 753 10\, Sverige
CATEGORIES:Teater och Bio
ATTACH;FMTTYPE=image/jpeg:https://arkiv.barniuppsala.se/wp-content/uploads/2016/04/Storsjung-2016-webb.jpg
GEO:59.8567845;17.6334158
X-APPLE-STRUCTURED-LOCATION;VALUE=URI;X-ADDRESS=Värmlands nation Ingmar Bergmansgatan 2 Uppsala 753 10 Sverige;X-APPLE-RADIUS=500;X-TITLE=Ingmar Bergmansgatan 2:geo:17.6334158,59.8567845
END:VEVENT
END:VCALENDAR