BEGIN:VCALENDAR
VERSION:2.0
PRODID:-//Arkiv för Barn i Uppsala - ECPv5.1.6//NONSGML v1.0//EN
CALSCALE:GREGORIAN
METHOD:PUBLISH
X-WR-CALNAME:Arkiv för Barn i Uppsala
X-ORIGINAL-URL:https://arkiv.barniuppsala.se
X-WR-CALDESC:Händelser för Arkiv för Barn i Uppsala
BEGIN:VTIMEZONE
TZID:Europe/Stockholm
BEGIN:DAYLIGHT
TZOFFSETFROM:+0100
TZOFFSETTO:+0200
TZNAME:CEST
DTSTART:20180325T010000
END:DAYLIGHT
BEGIN:STANDARD
TZOFFSETFROM:+0200
TZOFFSETTO:+0100
TZNAME:CET
DTSTART:20181028T010000
END:STANDARD
END:VTIMEZONE
BEGIN:VEVENT
DTSTART;TZID=Europe/Stockholm:20180807T170000
DTEND;TZID=Europe/Stockholm:20180807T200000
DTSTAMP:20260423T210113
CREATED:20180717T064313Z
LAST-MODIFIED:20180725T095944Z
UID:20216-1533661200-1533672000@arkiv.barniuppsala.se
SUMMARY:Tågrån på rälsbuss 2018
DESCRIPTION:Tågrån på rälsbuss 2018\nUnder augusti 2016 var det premiär på en föreställning utöver det vanliga!\nTornet Productions uppförde ett tågrån för passagerare i ålder 6 år och uppåt på rälsbussen mellan Almunge och Faringe. Det blev ett mycket lyckat projekt!\nLennakatten rånades även under 2017 och nu är det dags igen. \nEn annorlunda resa tar vid för Er som bokat tågrån på rälsbussen från Almunge. I samarbete med Almunge Café & Catering\, Kompani Fabulousa och Lennakatten rullar nu tåget mot Faringe station. Vad som helst kan hända och det är inte säkert att ni kommer fram… \nRånarna behöver lägga upp en ordentlig plan så att de lyckas denna gång… \nDatum: Tisdag 7 augusti\, 14 augusti och 21 augusti\nTid: 16.00 och 18.00 (ca 60 minuter)\nPlats: Tågrånet utgår från Almunge station\nFrån Uppsala: Buss 809 går från Resecentrum i Uppsala och stannar vid Almunge station.\nPris: Barn 6-15 år 150 kr\, Vuxen 230 kr\n(Medlemskort gäller ej. Fika ingår i biljettpris.)\nÅlder: Lämpligt för alla från 6 år och uppåt.\nBokning: bokning@srjmf.se minst 2 veckor i förväg \nRälsbussen har 40 platser varav minst 12 platser måste bokas för att föreställningarna skall kunna genomföras. \n\nRegi: Ensemblen.\nManus: AnneLee Vikner & ensemblen.\nIdé: Stefan Hällsén. \nMedverkande: Olle Moberg\, Jurgen Andersson\, Anna Lundqvist\, Pea Sjölén och AnneLee Vikner.\nKostym\, rekvisita\, pr mm: AnneLee Vikner.\nMusik: Jurgen Andersson\, Pea Sjölén.\nFoto\, pr\, layout: Tisha Minö. \n\nFör mer information om eventen\, klicka här för att besöka Lennakattens hemsida eller klicka här för att besöka Tornet Productions. \nBild från tornetproductions.se \n0SHARESDela eventet
URL:https://arkiv.barniuppsala.se/event/tagran-pa-ralsbuss-2018/2018-08-07/
LOCATION:Lennakatten – Almunge station\, Almunge\, 74010\, Sverige
CATEGORIES:Barn,Sommarlov,Teater,Ungdom
ATTACH;FMTTYPE=image/jpeg:https://arkiv.barniuppsala.se/wp-content/uploads/2018/05/2018_TR_TP_Flyer_tillPDF-e1531813482401.jpg
ORGANIZER;CN="Lennakatten":MAILTO:info@lennakatten.se
GEO:59.875366;18.046231
END:VEVENT
END:VCALENDAR