BEGIN:VCALENDAR
VERSION:2.0
PRODID:-//Arkiv för Barn i Uppsala - ECPv5.1.6//NONSGML v1.0//EN
CALSCALE:GREGORIAN
METHOD:PUBLISH
X-WR-CALNAME:Arkiv för Barn i Uppsala
X-ORIGINAL-URL:https://arkiv.barniuppsala.se
X-WR-CALDESC:Händelser för Arkiv för Barn i Uppsala
BEGIN:VTIMEZONE
TZID:Europe/Stockholm
BEGIN:DAYLIGHT
TZOFFSETFROM:+0100
TZOFFSETTO:+0200
TZNAME:CEST
DTSTART:20160327T010000
END:DAYLIGHT
BEGIN:STANDARD
TZOFFSETFROM:+0200
TZOFFSETTO:+0100
TZNAME:CET
DTSTART:20161030T010000
END:STANDARD
END:VTIMEZONE
BEGIN:VEVENT
DTSTART;TZID=Europe/Stockholm:20161114T160000
DTEND;TZID=Europe/Stockholm:20161114T170000
DTSTAMP:20260420T144737
CREATED:20161114T122215Z
LAST-MODIFIED:20161114T122350Z
UID:9301-1479139200-1479142800@arkiv.barniuppsala.se
SUMMARY:Talboksinformation för barn och föräldrar
DESCRIPTION:Välkommen till informationstillfällen om talböcker på Stadsbibliotekets barn- och ungdomsavdelning. \nUnder informationsträffen får du veta mer om talböcker och hur du gör för att låna\, ladda ned och läsa dina böcker. Är du intresserad så registerar vi dig också hos Legimus så att du kan ladda ned dina böcker själv till en dator eller i appen till din surfplatta/smarttelefon. \nVi rekommenderar att både barn och förälder närvarar vid informationsträffen. Som målsman behöver du skriva under ett avtal som ger ditt barn rättighet till att ladda ned talböcker själv. \nDu är välkommen att anmäla dig till Stadsbibliotekets barn- och ungdomsavdelning\, 018-7271710\,stadsbibli.barn@uppsala.se \n  \nFör frågor kontakta: Charlotte Tiderman\, 018-727 17 13\, charlotte.tiderman@uppsala.se  eller Caroline Westerlund\, \n018-7271713\, caroline.westerlund@uppsala.se \n0SHARESDela eventet
URL:https://arkiv.barniuppsala.se/event/talboksinformation-barn-och-foraldrar/
LOCATION:Uppsala stadsbibliotek\, Svartbäcksgatan 17\, Uppsala\, 753 75\, Sverige
ATTACH;FMTTYPE=image/jpeg:https://arkiv.barniuppsala.se/wp-content/uploads/2016/11/ad907284-5c82-4431-a9d4-fbb4935d05fd-2.jpg
ORGANIZER;CN="Uppsala%20stadsbibliotek":MAILTO: stadsbibli.inf@uppsala.se
GEO:59.8606206;17.6353278
X-APPLE-STRUCTURED-LOCATION;VALUE=URI;X-ADDRESS=Uppsala stadsbibliotek Svartbäcksgatan 17 Uppsala 753 75 Sverige;X-APPLE-RADIUS=500;X-TITLE=Svartbäcksgatan 17:geo:17.6353278,59.8606206
END:VEVENT
END:VCALENDAR