BEGIN:VCALENDAR
VERSION:2.0
PRODID:-//Arkiv för Barn i Uppsala - ECPv5.1.6//NONSGML v1.0//EN
CALSCALE:GREGORIAN
METHOD:PUBLISH
X-WR-CALNAME:Arkiv för Barn i Uppsala
X-ORIGINAL-URL:https://arkiv.barniuppsala.se
X-WR-CALDESC:Händelser för Arkiv för Barn i Uppsala
BEGIN:VTIMEZONE
TZID:Europe/Stockholm
BEGIN:DAYLIGHT
TZOFFSETFROM:+0100
TZOFFSETTO:+0200
TZNAME:CEST
DTSTART:20160327T010000
END:DAYLIGHT
BEGIN:STANDARD
TZOFFSETFROM:+0200
TZOFFSETTO:+0100
TZNAME:CET
DTSTART:20161030T010000
END:STANDARD
END:VTIMEZONE
BEGIN:VEVENT
DTSTART;VALUE=DATE:20160618
DTEND;VALUE=DATE:20160621
DTSTAMP:20260421T210746
CREATED:20160119T131623Z
LAST-MODIFIED:20160615T111016Z
UID:5807-1466222400-1466395199@arkiv.barniuppsala.se
SUMMARY:Tävlingen Uppsala Triathlon
DESCRIPTION:Uppsala Triathlons mittpunkt\, med växlingsområde\, mässa och kringarrangemang är som tidigare koncentrerat runt S:t Eriks torg\, mitt i centrala Uppsala. Deltagarna simmar i Fyrisån och cyklar och springer på banor runt domkyrkan och slottet. \nNytt för i år är att barntävlingen har fått en mer framträdande plats. Tri4fun är en rolig och peppande tävling för unga triathleter\, både de som är vana vid triathlon och den som är nyfiken på att prova för första gången. Det handlar om korta distanser som alla klarar av. \nMer info på arrangörens hemsida. \nDet finns inte så många platser kvar men det blir fartfyllda och spännande tävlingar också för publiken!  \n0SHARESDela eventet
URL:https://arkiv.barniuppsala.se/event/tavlingen-uppsala-triathlon/
ATTACH;FMTTYPE=image/jpeg:https://arkiv.barniuppsala.se/wp-content/uploads/2016/01/Triathlon.jpg
ORGANIZER;CN="Svenska%20Triathlonf%C3%B6rbundet":MAILTO:info@svensktriathlon.org
END:VEVENT
END:VCALENDAR