BEGIN:VCALENDAR
VERSION:2.0
PRODID:-//Arkiv för Barn i Uppsala - ECPv5.1.6//NONSGML v1.0//EN
CALSCALE:GREGORIAN
METHOD:PUBLISH
X-WR-CALNAME:Arkiv för Barn i Uppsala
X-ORIGINAL-URL:https://arkiv.barniuppsala.se
X-WR-CALDESC:Händelser för Arkiv för Barn i Uppsala
BEGIN:VTIMEZONE
TZID:Europe/Stockholm
BEGIN:DAYLIGHT
TZOFFSETFROM:+0100
TZOFFSETTO:+0200
TZNAME:CEST
DTSTART:20180325T010000
END:DAYLIGHT
BEGIN:STANDARD
TZOFFSETFROM:+0200
TZOFFSETTO:+0100
TZNAME:CET
DTSTART:20181028T010000
END:STANDARD
END:VTIMEZONE
BEGIN:VEVENT
DTSTART;TZID=Europe/Stockholm:20180406T150000
DTEND;TZID=Europe/Stockholm:20180406T180000
DTSTAMP:20260420T040529
CREATED:20180405T061908Z
LAST-MODIFIED:20180405T062113Z
UID:19390-1523026800-1523037600@arkiv.barniuppsala.se
SUMMARY:Teckna manga med Lisa Medin
DESCRIPTION:Teckna manga\nPåskolovsworkshop för dig mellan 10 och 15 år\nfredag 6 april kl. 14:00-17:00\nSerietecknaren Lisa Medin lär ut grunderna i teckning med avstamp i de japanska mangaserierna. Skapa figurer och lär dig teckna rörelse och minspel!\nBegränsat antal platser. Föranmälan till knivstabibliotek@knivsta.se  eller på 018-34 72 30 \nIngen kostnad\, enkel fika finns. \nBild från pixabay.com \n0SHARESDela eventet
URL:https://arkiv.barniuppsala.se/event/teckna-manga-med-lisa-medin/
LOCATION:Knivsta bibliotek\, Centralvägen 18\, Knivsta\, 741 40\, Sverige
ATTACH;FMTTYPE=image/png:https://arkiv.barniuppsala.se/wp-content/uploads/2018/04/chibi-2380489_640.png
ORGANIZER;CN="Knivsta%20Bibliotek":MAILTO:kristina.vikstrom@knivsta.se
GEO:59.7276856;17.7857663
X-APPLE-STRUCTURED-LOCATION;VALUE=URI;X-ADDRESS=Knivsta bibliotek Centralvägen 18 Knivsta 741 40 Sverige;X-APPLE-RADIUS=500;X-TITLE=Centralvägen 18:geo:17.7857663,59.7276856
END:VEVENT
END:VCALENDAR