BEGIN:VCALENDAR
VERSION:2.0
PRODID:-//Arkiv för Barn i Uppsala - ECPv5.1.6//NONSGML v1.0//EN
CALSCALE:GREGORIAN
METHOD:PUBLISH
X-WR-CALNAME:Arkiv för Barn i Uppsala
X-ORIGINAL-URL:https://arkiv.barniuppsala.se
X-WR-CALDESC:Händelser för Arkiv för Barn i Uppsala
BEGIN:VTIMEZONE
TZID:Europe/Stockholm
BEGIN:DAYLIGHT
TZOFFSETFROM:+0100
TZOFFSETTO:+0200
TZNAME:CEST
DTSTART:20150329T010000
END:DAYLIGHT
BEGIN:STANDARD
TZOFFSETFROM:+0200
TZOFFSETTO:+0100
TZNAME:CET
DTSTART:20151025T010000
END:STANDARD
END:VTIMEZONE
BEGIN:VEVENT
DTSTART;TZID=Europe/Stockholm:20151204T093000
DTEND;TZID=Europe/Stockholm:20151204T093000
DTSTAMP:20260421T235725
CREATED:20151201T051313Z
LAST-MODIFIED:20151201T102607Z
UID:4521-1449221400-1449221400@arkiv.barniuppsala.se
SUMMARY:Tomt på loftet
DESCRIPTION:Tomt på loftet -sagor ur vrårna\, Panikteaterns föreställning för barn från 3 år på Den Lilla Teatern. \nFredag 4 december kl 9.30. \nStrålkastarna har just släckts\, dags att låsa dörrarna och gå hem och griljera skinkan. Det är jul på teatern.Lugnet lägrar sig i vinterkvällen… Men vänta! Något rör sig i kulisserna! Figurer som inte fått plats i årets föreställningar. De vill ju också vara med!!! \nBild: pixabay.com. \n0SHARESDela eventet
URL:https://arkiv.barniuppsala.se/event/tomt-pa-loftet/
LOCATION:Den Lilla Teatern\, S:t Persgatan 22\, Uppsala\, 753 29
CATEGORIES:Teater och Bio
ATTACH;FMTTYPE=image/png:https://arkiv.barniuppsala.se/wp-content/uploads/2015/12/barnridå.png
GEO:59.8618076;17.6424759
X-APPLE-STRUCTURED-LOCATION;VALUE=URI;X-ADDRESS=Den Lilla Teatern S:t Persgatan 22 Uppsala 753 29;X-APPLE-RADIUS=500;X-TITLE=S:t Persgatan 22:geo:17.6424759,59.8618076
END:VEVENT
END:VCALENDAR