BEGIN:VCALENDAR
VERSION:2.0
PRODID:-//Arkiv för Barn i Uppsala - ECPv5.1.6//NONSGML v1.0//EN
CALSCALE:GREGORIAN
METHOD:PUBLISH
X-WR-CALNAME:Arkiv för Barn i Uppsala
X-ORIGINAL-URL:https://arkiv.barniuppsala.se
X-WR-CALDESC:Händelser för Arkiv för Barn i Uppsala
BEGIN:VTIMEZONE
TZID:Europe/Stockholm
BEGIN:DAYLIGHT
TZOFFSETFROM:+0100
TZOFFSETTO:+0200
TZNAME:CEST
DTSTART:20150329T010000
END:DAYLIGHT
BEGIN:STANDARD
TZOFFSETFROM:+0200
TZOFFSETTO:+0100
TZNAME:CET
DTSTART:20151025T010000
END:STANDARD
END:VTIMEZONE
BEGIN:VEVENT
DTSTART;TZID=Europe/Stockholm:20151001T150000
DTEND;TZID=Europe/Stockholm:20151001T160000
DTSTAMP:20260421T055216
CREATED:20150907T111544Z
LAST-MODIFIED:20200201T034739Z
UID:3597-1443711600-1443715200@arkiv.barniuppsala.se
SUMMARY:Torsdagskul för 3-4 åringar
DESCRIPTION:Sånger om Biotopias djur\nBarnaktivitet på Biotopia! \nDet är anpassat för barn som är 3-4 år\, men givetvis får syskon följa med\, men barnen behöver en vuxen med sig som kan hjälpa till ibland. \nTid: 14.00 \nAktiviteten tar ca 45 minuter till en timme. \nVälkomna / Anna på Biotopia \n0SHARESDela eventet
URL:https://arkiv.barniuppsala.se/event/torsdagskul-for-3-4-aringar/
LOCATION:Biotopia – Biologiska museet\, Vasagatan 4\, Uppsala\, 753 13\, Sverige
CATEGORIES:Djur,Lärande lek,Teater och Bio
ATTACH;FMTTYPE=image/jpeg:https://arkiv.barniuppsala.se/wp-content/uploads/2015/09/imgres.jpg
ORGANIZER;CN="Biotopia":MAILTO:info@biotopia.nu
END:VEVENT
END:VCALENDAR