BEGIN:VCALENDAR
VERSION:2.0
PRODID:-//Arkiv för Barn i Uppsala - ECPv5.1.6//NONSGML v1.0//EN
CALSCALE:GREGORIAN
METHOD:PUBLISH
X-WR-CALNAME:Arkiv för Barn i Uppsala
X-ORIGINAL-URL:https://arkiv.barniuppsala.se
X-WR-CALDESC:Händelser för Arkiv för Barn i Uppsala
BEGIN:VTIMEZONE
TZID:Europe/Stockholm
BEGIN:DAYLIGHT
TZOFFSETFROM:+0100
TZOFFSETTO:+0200
TZNAME:CEST
DTSTART:20150329T010000
END:DAYLIGHT
BEGIN:STANDARD
TZOFFSETFROM:+0200
TZOFFSETTO:+0100
TZNAME:CET
DTSTART:20151025T010000
END:STANDARD
END:VTIMEZONE
BEGIN:VEVENT
DTSTART;TZID=Europe/Stockholm:20151210T140000
DTEND;TZID=Europe/Stockholm:20151210T150000
DTSTAMP:20260421T224750
CREATED:20151201T125945Z
LAST-MODIFIED:20200201T034418Z
UID:4548-1449756000-1449759600@arkiv.barniuppsala.se
SUMMARY:Torsdagskul på Biotopia
DESCRIPTION:Torsdagskul på Biotopia för barn 3-4 åringar. Den här gången är temat: Spindlar i Djurgranen? \nDet funderas på vad det är för något som bor i julgranen. \nMan träffas och pratar om naturvetenskap på ett lekfullt sätt. \nBarnen behöver en vuxen med sig. \nBild: pixabay.com. \n0SHARESDela eventet
URL:https://arkiv.barniuppsala.se/event/torsdagskul-pa-biotopia-2/
LOCATION:Biotopia – Biologiska museet\, Vasagatan 4\, Uppsala\, 753 13\, Sverige
CATEGORIES:Djur,Lärande lek
ATTACH;FMTTYPE=image/png:https://arkiv.barniuppsala.se/wp-content/uploads/2015/12/grrrr.png
ORGANIZER;CN="Biotopia":MAILTO:info@biotopia.nu
END:VEVENT
END:VCALENDAR