BEGIN:VCALENDAR
VERSION:2.0
PRODID:-//Arkiv för Barn i Uppsala - ECPv5.1.6//NONSGML v1.0//EN
CALSCALE:GREGORIAN
METHOD:PUBLISH
X-WR-CALNAME:Arkiv för Barn i Uppsala
X-ORIGINAL-URL:https://arkiv.barniuppsala.se
X-WR-CALDESC:Händelser för Arkiv för Barn i Uppsala
BEGIN:VTIMEZONE
TZID:Europe/Stockholm
BEGIN:DAYLIGHT
TZOFFSETFROM:+0100
TZOFFSETTO:+0200
TZNAME:CEST
DTSTART:20160327T010000
END:DAYLIGHT
BEGIN:STANDARD
TZOFFSETFROM:+0200
TZOFFSETTO:+0100
TZNAME:CET
DTSTART:20161030T010000
END:STANDARD
END:VTIMEZONE
BEGIN:VEVENT
DTSTART;TZID=Europe/Stockholm:20160526T140000
DTEND;TZID=Europe/Stockholm:20160526T140000
DTSTAMP:20260419T150330
CREATED:20160504T103139Z
LAST-MODIFIED:20200201T025538Z
UID:6966-1464271200-1464271200@arkiv.barniuppsala.se
SUMMARY:Torsdagskul på Biotopia
DESCRIPTION:Torsdagskul på Biotopia är en aktivitet där man träffas för att prata om naturvetenskap på ett lekfullt sätt.\nDen här gången är det avslutning för vårterminens Torsdagskul. \nFör barn ca 3-4 år\, barnen behöver ha en vuxen med sig och småsyskon får naturligtvis också hänga på. \nBild: biotopia.nu. \n  \n0SHARESDela eventet
URL:https://arkiv.barniuppsala.se/event/torsdagskul-pa-biotopia-8/
LOCATION:Biotopia – Biologiska museet\, Vasagatan 4\, Uppsala\, 753 13\, Sverige
CATEGORIES:Djur
ATTACH;FMTTYPE=image/jpeg:https://arkiv.barniuppsala.se/wp-content/uploads/2016/05/Biotopia.jpg
ORGANIZER;CN="Biotopia":MAILTO:info@biotopia.nu
END:VEVENT
END:VCALENDAR