BEGIN:VCALENDAR
VERSION:2.0
PRODID:-//Arkiv för Barn i Uppsala - ECPv5.1.6//NONSGML v1.0//EN
CALSCALE:GREGORIAN
METHOD:PUBLISH
X-WR-CALNAME:Arkiv för Barn i Uppsala
X-ORIGINAL-URL:https://arkiv.barniuppsala.se
X-WR-CALDESC:Händelser för Arkiv för Barn i Uppsala
BEGIN:VTIMEZONE
TZID:Europe/Stockholm
BEGIN:DAYLIGHT
TZOFFSETFROM:+0100
TZOFFSETTO:+0200
TZNAME:CEST
DTSTART:20150329T010000
END:DAYLIGHT
BEGIN:STANDARD
TZOFFSETFROM:+0200
TZOFFSETTO:+0100
TZNAME:CET
DTSTART:20151025T010000
END:STANDARD
END:VTIMEZONE
BEGIN:VEVENT
DTSTART;TZID=Europe/Stockholm:20151203T140000
DTEND;TZID=Europe/Stockholm:20151203T150000
DTSTAMP:20260422T061725
CREATED:20151201T123116Z
LAST-MODIFIED:20200201T034514Z
UID:4545-1449151200-1449154800@arkiv.barniuppsala.se
SUMMARY:Torsdagskul på Biotopia
DESCRIPTION:Torsdagskul på Biotopia för barn 3-4 åringar. Den här gången är temat: Sinnen. \nMan träffas och pratar om naturvetenskap på ett lekfullt sätt. \nBarnen behöver en vuxen med sig. \nBild: pixabay.com. \n0SHARESDela eventet
URL:https://arkiv.barniuppsala.se/event/torsdagskul-pa-biotopia/
LOCATION:Biotopia – Biologiska museet\, Vasagatan 4\, Uppsala\, 753 13\, Sverige
CATEGORIES:Lärande lek
ATTACH;FMTTYPE=image/jpeg:https://arkiv.barniuppsala.se/wp-content/uploads/2015/12/sinnen.jpg
ORGANIZER;CN="Biotopia":MAILTO:info@biotopia.nu
END:VEVENT
END:VCALENDAR