BEGIN:VCALENDAR
VERSION:2.0
PRODID:-//Arkiv för Barn i Uppsala - ECPv5.1.6//NONSGML v1.0//EN
CALSCALE:GREGORIAN
METHOD:PUBLISH
X-WR-CALNAME:Arkiv för Barn i Uppsala
X-ORIGINAL-URL:https://arkiv.barniuppsala.se
X-WR-CALDESC:Händelser för Arkiv för Barn i Uppsala
BEGIN:VTIMEZONE
TZID:Europe/Stockholm
BEGIN:DAYLIGHT
TZOFFSETFROM:+0100
TZOFFSETTO:+0200
TZNAME:CEST
DTSTART:20180325T010000
END:DAYLIGHT
BEGIN:STANDARD
TZOFFSETFROM:+0200
TZOFFSETTO:+0100
TZNAME:CET
DTSTART:20181028T010000
END:STANDARD
END:VTIMEZONE
BEGIN:VEVENT
DTSTART;TZID=Europe/Stockholm:20180531T143000
DTEND;TZID=Europe/Stockholm:20180531T143000
DTSTAMP:20260420T080516
CREATED:20180507T083338Z
LAST-MODIFIED:20200201T032241Z
UID:18702-1527777000-1527777000@arkiv.barniuppsala.se
SUMMARY:Torsdagskul: Småkryp
DESCRIPTION:Torsdagskul: Småkryp\nAlla intresserade träffas kl 14.30 på Biotopia för att prata om naturvetenskap på ett lekfullt sätt. Man kommer att prova på\, pyssla\, prata\, titta och lära sig om olika teman. Barnen behöver ha en vuxen med sig och givetvis får småsyskon hänga på! \nAktiviteten är utformad för att passa 3-4 åringar.  Alla får vara med efter sina egna förutsättningar. Man brukar börja med en kort samling där man pratar om temat\, sen gör man ofta en aktivitet eller skapande verksamhet. Det är ingen föranmälan\, ibland är det väldigt mycket barn\, ibland lite färre. \nDenna dag letas det efter småkryp! \n\nTid och plats\nTorsdag 31 maj\, klockan 14.30 \nBiotopia \n\n\n\n\nLadda ner program vårens program: torsdagskul2018 \nBild från: https://pixabay.com \n\n 1SHARESDela eventet
URL:https://arkiv.barniuppsala.se/event/torsdagskul-smakryp/
LOCATION:Biotopia – Biologiska museet\, Vasagatan 4\, Uppsala\, 753 13\, Sverige
CATEGORIES:Barn,Djur,Kunskap och Lärande,Museum,Natur
ATTACH;FMTTYPE=image/jpeg:https://arkiv.barniuppsala.se/wp-content/uploads/2017/06/mariposa-e1498727158170.jpg
ORGANIZER;CN="Biotopia":MAILTO:info@biotopia.nu
END:VEVENT
END:VCALENDAR