BEGIN:VCALENDAR
VERSION:2.0
PRODID:-//Arkiv för Barn i Uppsala - ECPv5.1.6//NONSGML v1.0//EN
CALSCALE:GREGORIAN
METHOD:PUBLISH
X-WR-CALNAME:Arkiv för Barn i Uppsala
X-ORIGINAL-URL:https://arkiv.barniuppsala.se
X-WR-CALDESC:Händelser för Arkiv för Barn i Uppsala
BEGIN:VTIMEZONE
TZID:Europe/Stockholm
BEGIN:DAYLIGHT
TZOFFSETFROM:+0100
TZOFFSETTO:+0200
TZNAME:CEST
DTSTART:20160327T010000
END:DAYLIGHT
BEGIN:STANDARD
TZOFFSETFROM:+0200
TZOFFSETTO:+0100
TZNAME:CET
DTSTART:20161030T010000
END:STANDARD
END:VTIMEZONE
BEGIN:VEVENT
DTSTART;VALUE=DATE:20160116
DTEND;VALUE=DATE:20160118
DTSTAMP:20260422T193011
CREATED:20160114T092616Z
LAST-MODIFIED:20160114T092616Z
UID:5765-1452913200-1452999599@arkiv.barniuppsala.se
SUMMARY:Tre Kronors Hockeyskola och skridskoskola
DESCRIPTION:Skolorna pågår t o m den 16/4 och vänder sig till både pojkar och flickor. För mer info besök deras hemsida. \n0SHARESDela eventet
URL:https://arkiv.barniuppsala.se/event/tre-kronors-hockeyskola-och-skridskoskola/
ORGANIZER;CN="Uppsala%20Young%20Hockey%20Club":MAILTO:info@uppsalayoung.se
END:VEVENT
END:VCALENDAR