BEGIN:VCALENDAR
VERSION:2.0
PRODID:-//Arkiv för Barn i Uppsala - ECPv5.1.6//NONSGML v1.0//EN
CALSCALE:GREGORIAN
METHOD:PUBLISH
X-WR-CALNAME:Arkiv för Barn i Uppsala
X-ORIGINAL-URL:https://arkiv.barniuppsala.se
X-WR-CALDESC:Händelser för Arkiv för Barn i Uppsala
BEGIN:VTIMEZONE
TZID:Europe/Stockholm
BEGIN:DAYLIGHT
TZOFFSETFROM:+0100
TZOFFSETTO:+0200
TZNAME:CEST
DTSTART:20160327T010000
END:DAYLIGHT
BEGIN:STANDARD
TZOFFSETFROM:+0200
TZOFFSETTO:+0100
TZNAME:CET
DTSTART:20161030T010000
END:STANDARD
END:VTIMEZONE
BEGIN:VEVENT
DTSTART;TZID=Europe/Stockholm:20161103T130000
DTEND;TZID=Europe/Stockholm:20161103T150000
DTSTAMP:20260421T022406
CREATED:20161026T064914Z
LAST-MODIFIED:20161026T064914Z
UID:8930-1478178000-1478185200@arkiv.barniuppsala.se
SUMMARY:Höstlov: Trolldomspyssel på Gottsundabiblioteket
DESCRIPTION:Höstlov: Trolldomspyssel på Gottsundabiblioteket\, drop-in torsdag 3 november kl 13-15. \nKom till Temaverkstaden och gör en häxhatt\, en trollstav eller något annat läskigt pyssel.\nBarn och unga i alla åldrar är välkomna\, ingen föranmälan behövs. \nBild: pixabay.com. \n  \n0SHARESDela eventet
URL:https://arkiv.barniuppsala.se/event/trolldomspyssel-pa-gottsundabiblioteket/
LOCATION:Gottsundabiblioteket\, Valthornsvägen 11\, Uppsala\, 756 50\, Sverige
CATEGORIES:Bibliotek,Höstlov
ATTACH;FMTTYPE=image/jpeg:https://arkiv.barniuppsala.se/wp-content/uploads/2016/10/trolldom.jpg
ORGANIZER;CN="Bibliotek%20Uppsala":MAILTO:kundtjanst@bibliotekuppsala.se
GEO:59.8093409;17.6295555
X-APPLE-STRUCTURED-LOCATION;VALUE=URI;X-ADDRESS=Gottsundabiblioteket Valthornsvägen 11 Uppsala 756 50 Sverige;X-APPLE-RADIUS=500;X-TITLE=Valthornsvägen 11:geo:17.6295555,59.8093409
END:VEVENT
END:VCALENDAR