BEGIN:VCALENDAR
VERSION:2.0
PRODID:-//Arkiv för Barn i Uppsala - ECPv5.1.6//NONSGML v1.0//EN
CALSCALE:GREGORIAN
METHOD:PUBLISH
X-WR-CALNAME:Arkiv för Barn i Uppsala
X-ORIGINAL-URL:https://arkiv.barniuppsala.se
X-WR-CALDESC:Händelser för Arkiv för Barn i Uppsala
BEGIN:VTIMEZONE
TZID:Europe/Stockholm
BEGIN:DAYLIGHT
TZOFFSETFROM:+0100
TZOFFSETTO:+0200
TZNAME:CEST
DTSTART:20160327T010000
END:DAYLIGHT
BEGIN:STANDARD
TZOFFSETFROM:+0200
TZOFFSETTO:+0100
TZNAME:CET
DTSTART:20161030T010000
END:STANDARD
END:VTIMEZONE
BEGIN:VEVENT
DTSTART;TZID=Europe/Stockholm:20160318T100000
DTEND;TZID=Europe/Stockholm:20160318T100000
DTSTAMP:20260420T174136
CREATED:20160314T115827Z
LAST-MODIFIED:20160314T133017Z
UID:6378-1458295200-1458295200@arkiv.barniuppsala.se
SUMMARY:Tuppen på åsnan på Björklingebiblioteket
DESCRIPTION:Tuppen på åsnan\, en musik- och berättarföreställning om det fina i att vi alla är olika.\nBjörklingebiblioteket fredag 18 mars kl 10. \nMedverkande: Charlotte Magnusson och Charlotte Gottfries. \nFör barn från 4 år och uppåt med medföljande vuxen. Antalet platser är begränsat – föranmälan till biblioteket. \nBild: pixabay.com. \n0SHARESDela eventet
URL:https://arkiv.barniuppsala.se/event/tuppen-pa-asnan-pa-bjorklingebiblioteket/
LOCATION:Björklingebiblioteket\, Sandbrovägen 6\, Björklinge\, 743 64\, Sverige
CATEGORIES:Teater och Bio
ATTACH;FMTTYPE=image/png:https://arkiv.barniuppsala.se/wp-content/uploads/2016/03/tupp_på_åsna.png
ORGANIZER;CN="Bibliotek%20Uppsala":MAILTO:kundtjanst@bibliotekuppsala.se
GEO:60.0261948;17.5550635
X-APPLE-STRUCTURED-LOCATION;VALUE=URI;X-ADDRESS=Björklingebiblioteket Sandbrovägen 6 Björklinge 743 64 Sverige;X-APPLE-RADIUS=500;X-TITLE=Sandbrovägen 6:geo:17.5550635,60.0261948
END:VEVENT
END:VCALENDAR