BEGIN:VCALENDAR
VERSION:2.0
PRODID:-//Arkiv för Barn i Uppsala - ECPv5.1.6//NONSGML v1.0//EN
CALSCALE:GREGORIAN
METHOD:PUBLISH
X-WR-CALNAME:Arkiv för Barn i Uppsala
X-ORIGINAL-URL:https://arkiv.barniuppsala.se
X-WR-CALDESC:Händelser för Arkiv för Barn i Uppsala
BEGIN:VTIMEZONE
TZID:Europe/Stockholm
BEGIN:DAYLIGHT
TZOFFSETFROM:+0100
TZOFFSETTO:+0200
TZNAME:CEST
DTSTART:20190331T010000
END:DAYLIGHT
BEGIN:STANDARD
TZOFFSETFROM:+0200
TZOFFSETTO:+0100
TZNAME:CET
DTSTART:20191027T010000
END:STANDARD
END:VTIMEZONE
BEGIN:VEVENT
DTSTART;TZID=Europe/Stockholm:20190413T140000
DTEND;TZID=Europe/Stockholm:20190413T163000
DTSTAMP:20260419T165820
CREATED:20190410T083714Z
LAST-MODIFIED:20190410T083714Z
UID:34620-1555164000-1555173000@arkiv.barniuppsala.se
SUMMARY:Familjelördag: "Underliga änglar" | Uppsala konstmuseum
DESCRIPTION:Familjelördag: “Underliga änglar”\nNi går på jakt efter olika änglar som finns i konstmuseets alla salar och vrår. Var gömmer de sig? I verkstaden målar ni olika flygande sagovarelser som älvor\, änglar och enhörningar. \nHur många älvor\, änglar och enhörningar finns det på museet? Kan man göra konst av pinnar eller måla med tejp? Udda veckor betyder familjelördag på Uppsala konstmuseum. Ni inspireras av konsten i huset och skapar i verkstan tillsammans med museets konstpedagoger. \nDatum: Lördag 13 april 2019\nTid: 13:00-13:30 familjevisning och 13:30-15:30 drop-in i verkstan\nPlats: Uppsala konstmuseum\, Drottning Christinas väg 1E\, Uppsala Slott\nÅlder: Från 5 år\nPris: Kostnadsfritt\nAnmälan: Ingen förbokning\nArrangör: Uppsala konstmuseum \n\nOm Uppsala konstmuseum\n\nUppsala konstmuseum är ett museum med samlingar och en utställningsplats for modern och samtida konst. Deras verksamhet har ett fokus på bildkonst från slutet av 1800-talet fram till den samtidskonst som görs idag. Det är måleri\, grafik\, fotografi\, skulptur\, installation\, video\, ljud och performance. Uppsala konstmuseum visar nationella och internationella konstnärer och har ett särskilt ansvar att bevaka konsten i kommunen och regionen Uppsala. \nKonstmuseet är en plats för människor att möta konst. Det är ett centrum där viljan att undersöka\, gestalta och förändra ges utrymme. \nBildkonsten är utgångspunkt för upplevelser och samtal\, diskussioner och speglingar\, kreativa aktiviteter\, lekfulla händelser och möten med andra konstformer. \nUppsala konstmuseum är ett av Uppsala kommuns museer och arbetar på uppdrag av kulturnämnden. \n\n\nBesök gärna länkarna nedan (externa länkar öppnas i ett nytt fönster/flik):\nKommande familjeevent | Kommande museievent | Uppsala konstmuseum \nBild: Pixabay \n0SHARESDela eventet
URL:https://arkiv.barniuppsala.se/event/underliga-anglar-familjelordag/
LOCATION:Uppsala konstmuseum\, Drottning Christinas väg 1E Uppsala\, Uppsala\, Uppsala\, 752 37 Uppsala\, Sverige
CATEGORIES:Barn,Familj,Museum,Pyssel,Skapande och Kreativitet
ATTACH;FMTTYPE=image/jpeg:https://arkiv.barniuppsala.se/wp-content/uploads/2019/03/angel-3740392_640.jpg
ORGANIZER;CN="Uppsala%20konstmuseum":MAILTO:konstmuseum@uppsala.se
END:VEVENT
END:VCALENDAR