BEGIN:VCALENDAR
VERSION:2.0
PRODID:-//Arkiv för Barn i Uppsala - ECPv5.1.6//NONSGML v1.0//EN
CALSCALE:GREGORIAN
METHOD:PUBLISH
X-WR-CALNAME:Arkiv för Barn i Uppsala
X-ORIGINAL-URL:https://arkiv.barniuppsala.se
X-WR-CALDESC:Händelser för Arkiv för Barn i Uppsala
BEGIN:VTIMEZONE
TZID:Europe/Stockholm
BEGIN:DAYLIGHT
TZOFFSETFROM:+0100
TZOFFSETTO:+0200
TZNAME:CEST
DTSTART:20170326T010000
END:DAYLIGHT
BEGIN:STANDARD
TZOFFSETFROM:+0200
TZOFFSETTO:+0100
TZNAME:CET
DTSTART:20171029T010000
END:STANDARD
END:VTIMEZONE
BEGIN:VEVENT
DTSTART;TZID=Europe/Stockholm:20170425T180000
DTEND;TZID=Europe/Stockholm:20170425T193000
DTSTAMP:20260420T192621
CREATED:20170420T065718Z
LAST-MODIFIED:20170424T083622Z
UID:12421-1493143200-1493148600@arkiv.barniuppsala.se
SUMMARY:Ung debatt
DESCRIPTION:Du debatterar\nÄr du ung och intresserad av politik? \nKom och diskutera filosofiska\, politiska och ideologiska frågor tillsammans med andra ungdomar. \n\n\n\nHär kan du debattera\, problematisera\, argumentera och lyssna på andra. \nFör dig som är 13-25 år. \nPlats: Grupprummet vid Rum för unga\, Stadsbiblioteket Uppsala \nGratis! \nBilden hämtad från Google bilder \n\n 0SHARESDela eventet
URL:https://arkiv.barniuppsala.se/event/ung-debatt-du-debatterar/
LOCATION:Stadsbiblioteket\, Svartbäcksgatan 17\, Uppsala\, 753 75\, Sverige
CATEGORIES:Bibliotek,Ungdom
ATTACH;FMTTYPE=image/gif:https://arkiv.barniuppsala.se/wp-content/uploads/2016/12/debatt.gif
ORGANIZER;CN="Ungdomsperspektivet":MAILTO:Ungdomsperspektivet@gmail.com
GEO:59.8606206;17.6353278
X-APPLE-STRUCTURED-LOCATION;VALUE=URI;X-ADDRESS=Stadsbiblioteket Svartbäcksgatan 17 Uppsala 753 75 Sverige;X-APPLE-RADIUS=500;X-TITLE=Svartbäcksgatan 17:geo:17.6353278,59.8606206
END:VEVENT
END:VCALENDAR