BEGIN:VCALENDAR
VERSION:2.0
PRODID:-//Arkiv för Barn i Uppsala - ECPv5.1.6//NONSGML v1.0//EN
CALSCALE:GREGORIAN
METHOD:PUBLISH
X-WR-CALNAME:Arkiv för Barn i Uppsala
X-ORIGINAL-URL:https://arkiv.barniuppsala.se
X-WR-CALDESC:Händelser för Arkiv för Barn i Uppsala
BEGIN:VTIMEZONE
TZID:Europe/Stockholm
BEGIN:DAYLIGHT
TZOFFSETFROM:+0100
TZOFFSETTO:+0200
TZNAME:CEST
DTSTART:20180325T010000
END:DAYLIGHT
BEGIN:STANDARD
TZOFFSETFROM:+0200
TZOFFSETTO:+0100
TZNAME:CET
DTSTART:20181028T010000
END:STANDARD
END:VTIMEZONE
BEGIN:VEVENT
DTSTART;TZID=Europe/Stockholm:20180825T160000
DTEND;TZID=Europe/Stockholm:20180825T220000
DTSTAMP:20260420T094057
CREATED:20180822T104723Z
LAST-MODIFIED:20180822T104723Z
UID:21907-1535212800-1535234400@arkiv.barniuppsala.se
SUMMARY:Uppsala International Quality Film Festival
DESCRIPTION:Uppsala International Quality Film Festival\nMultikulturföreningen i Uppsala (MKF) öppnar den första Uppsala Internationella Quality Filmfestival (Uppsala IFFQ) 25-26 augusti 2018 på Slottsbiografen.\nTemat för denna festivalen i år är Barn och föräldrar i världen. \nKvaliteten av våra relationer kan och bör bli bättre. Därför visar Uppsala IFFQ bra filmer av hög kvalitet som handlar om enkla och grundläggande värderingar vilka håller ihop vår delade\, ömtåliga värld. \nAnimerat\, kortfilmer såväl som dokumentärer kommer visas och som är från Ryssland\, Italien\, Marocko\, Afghanistan\, Tyskland och många fler. \nFestivalen är familjevänlig och passar i alla åldrar och inträdet är gratis. \nVar:\nSlottsbiografen \nNär:\nLördag 25:e augusti kl 15\, söndag 26:e augusti kl 11 \n  \n  \n\nPROGRAM\nSaturday\, August 25\n15:00 – Opening of the IFFQ \n\n15:10 -15:32  \nGAZA BY HER\nPalestine /2017/Arabic dialogue with English subtitles /22 min/from 11 years old\nCAST & CREDITS Director: May Odeh\, Riham Al Ghazali Writer: May Odeh\, Riham Al Ghazali DOP: Ibrahim Yaghi Producer: May Odeh \n15:40-16:04 \nTHE CALLING\nMorocco / 2017 / Arabic dialogue with English subtitles / 24 min/ from 11 years old\nCAST & CREDITS Director: Mariakenzi Lahlou Writer: Mariakenzi Lahlou Cast: Boutaïna El Fekkak Ahmed Marzouki\, Sophia Hadi\, Nabyl Lahlou\nDOP: Oscar Viguier Producer: Mariakenzi Lahlo \n16:15 – 16:31 \nGHAFAH\nUAE / 2017 / Arabic dialogue with English subtitles /16 min./ from 11 years old CAST & CREDITS Director: Aisha Alzaabi Writer: Eman Alyousuf Cast: Alaa Shaker\, Moza Al Mazrouei\, Abdullah Al Hosani\, Abdullah Saleh Al Rumaithi\nDOP: Moath Noor Producer: Aisha Alzaabi \n16:40-17-04 \nTHE WEDDING DRESS\nSaudi Arabia /2016 /Arabic dialogue with English subtitles /24 min/from 11 years old\nDirector: Mohamed Salman Writer: Zainab Al Nasser Cast: Abdulmohsen Alnemer\, Shaikha Zowaid\, Sally Zack\, Fatimah Al- Buainain DOP: Chaker Ben Yahmed Producer: Fahmi Farahat\, Mohamed Salman \npause \n  \n17:30-18:16 \nAN APPLE FROM PARADISE\nAfghan movie/ Director Homayun Morawat / 2010 / with English subtitles/ 86min/ from 11 years old \npause \n18:20-19:00 \n”BEAUTIFUL RESISTANCE” JULIANO\nSweden / Documentary film / Director: Walid Al-Mekdadi / 2015 /\n40 min./ from 11 years old \n19:00-19:08 \nABRAHAM\nIraq\, UAE\, Italy\, Germany / 2016 /Arabic dialogue with English subtitles/ 8 min/from 11 years old\nCAST & CREDITS Director: Ali Kareem Obaid\nWriter: Ali Kareem Obaid Cast: Sara El Debuçh\, Mohamed Zouaoui\, Basil Al Ali\, Faisal Dasser\, Wolf Layban DOP: Matteo De Angelis Producer: Ali Kareem Obaid\, Giulia Georgi \npause \n19:30-21:06 \nFACTORY GIRL\nEgypten\, Förenade Arabemiraten / Original title: “Fatat el masnaa” / Spelfilm\, Långfilm/ 2013 / Arabisk dialog med svensk text / 96 minuter/from 11 years old\nCAST & CREDITS Regi: Mohamed Khan Manus: Wessam Soliman Producent: Mohamed Samir Executive producer: Ahmed Youssef. I rollerna: Yasmin Raeis\, Hani Adel\, Salwa Mohamed Ali\, Salwa Khattab \n  \nSunday 26 August\n  \nANIMATED FILMS FOR CHILDREN AND THEIR PARENTS \n11:00-12:00 – 1-7 years old: \nAPORT / Denis Voronin / Денис Воронин/ Soyuzmultfilm\, Russian animation studio / 2016 / 2 min./ Utan text \nTHE HIPPOPOTAMUS AND COMPOTE/ FLODHÄST OCH KOMPOT/ БЕГЕМОТ И КОМПОТ/ Alexey Minchenok /Алексей Минченок/ Soyuzmultfilm\, Russian animation studio / 2015/ 3 min./ with Russian text\, with translation in Swedish in the salon \nLITTLE SQUIRREL AND SLEDS / LILLA EKKORE OCH SLÄDEN / БЕЛЬЧОНОК И САНКИ / Olesya Schukina Олеся Щукина/ Soyuzmultfilm\, Russian animation studio / 2016 / 4 min./ Utan text \nBIG FRIEND / STOR VÄN / БОЛЬШОЙ ДРУГ / Maria Matusevich\, Mikhail Aldashin/ Мария Матусевич\, Михаил Алдашин / Soyuzmultfilm\, Russian animation studio / 2015 / 2 min./ with Russian text\, with translation in Swedish in the salon \nBULL / БУЛЬ / Elizabeth and Polina Manohiny /Елизавета и Полина Манохины / Soyuzmultfilm\, Russian animation studio / 2016 / 2 min./ Utan text. \nKOROVKA / КОРОВКА / Marina Karpova / Марина Карпова / Soyuzmultfilm\, Russian animation studio / 2015 / 3 min./ with Russian text\, with translation in Swedish in the salon \nMATHER-HERON / MAMMA-HERON / МАМА-ЦАПЛЯ / Marina Karpova / Марина Карпова / Soyuzmultfilm\, Russian animation studio / 2015 / 11 min./ with Russian text\, with translation in Swedish in the salon \nMOROSHKA / МОРОШКА/ Polina Minchenok / Soyuzmultfilm\, Russian animation studio / 2015 /8 min. / Utan text. \nPYK-PYK-PYK / ПЫК-ПЫК-ПЫК / Denis Vysotskiy / Soyuzmultfilm\, Russian animation studio / 2015 / 4 min./ Utan text \nRyRyRy / РРР / Ekaterina Savina / Екатерина Савина / Soyuzmultfilm\, Russian animation studio / 2014 / 2 min. \nSEVEN CATS / SJU KATTER / СЕМЬ КОШЕК / Ruslan Sinkevich / Руслан Синкевич / Soyuzmultfilm\, Russian animation studio / 2015 / 3 min./ with Russian text\, with translation in Swedish in the salon \npause \n12:00-13:00 – 4-11 years old: \nVICIOUS CIRCLE / BEGRÄNSAD CIRKEL / Замкнутый круг / Svetlana Nagaeva / Cветлана Нагаева / Soyuzmultfilm\, Russian animation studio / 2016 / 2 min. \nGRANDMOTHER WITH A CROCODILE / MORMOR MED KROKODIL / БАБУШКА С КРОКОДИЛОМ / Mikhail Safronov /Михаил Сафронов / Soyuzmultfilm\, Russian animation studio / 2016/ 4 min./ Utan text \nWHITE BEARS / VITA BJÖRNAR / БЕЛЫ МЕДВЕДИ / Rosa Gimatdinova\, Tatyana Kiseleva / Soyuzmultfilm\, Russian animation studio / 2015 /14 min./ with Russian text\, with translation in Swedish in the salon \nI N THE BAG/ AFFÄR I EN HATT / ДЕЛО В ШЛЯПЕ / Katerina Savina / Soyuzmultfilm\, Russian animation studio / 2016 / 4 min./ Utan text. \nGIRL\, DRAGON AND DAD / TJEJ\, DRAKE OCH PAPPA / ДЕВОЧКА\, ДРАКОН И ПАПА / Eugenia Zhirkova / Soyuzmultfilm\, Russian animation studio / 2016 / 3 min./Utan text. \nJACK THE SIMPLETON / ДЖЕК ПРОСТАК / Alexander Chernogorov / Soyuzmultfilm\, Russian animation studio / 2015 / 4 min./ with Russian text\, with translation in Swedish in the salon \nIF I WAS A CAPTAIN / OM JAG VAR KAPTENEN / ЕСЛИ Б Я КАПИТАНОМ БЫЛ / Konstantin Shchekin / Soyuzmultfilm\, Russian animation studio / 2015 / 4 min./ with Russian text\, with translation in Swedish in the salon \nUNWASHED PENGUIN / OTVÄTTAD PINGVIN / НЕМЫТЫЙ ПИНГВИН / Isabel Fawe\, Alexei Mironov / Soyuzmultfilm\, Russian animation studio / 2015 / 6 min./ with Russian text\, with translation in Swedish in the salon \nTHE CANDLES / Director By Victor Azeev/Виктор Азеев/ Russia/ Animation Studio Confetti / 2003 / 16 min/ Utan text \npause \n13.20 -14.40 \nSANTA CLAUS! (Le Père Noël\, 2014)\, 1:20 – dir. Alexandre Coffre\, prod. Nicolas Duval-Adassovsky\, Yann Zenou and Laurent Zeitoun\, cinematography PierreCottereau/ French dialog with English subtitles/ from 7 years old \n15.00-16.42 \nLITTLE LION (Comme un lion\, 2013)\, 1:42 – dir. Samuel Collardey\, prod. Grégoire Debailly\, cinematography Samuel Collardey & Stéphane Raymond / French dialog with English subtitles/ from 11 years old \n16:45-17:15 – discussion of films with the public \n17-15-17:30 – Сlosing of the festival \n  \n\nMer information hittar du i den här länken och på Uppsala IFFQs Facebooksida \nBild hämtad från \n0SHARESDela eventet
URL:https://arkiv.barniuppsala.se/event/uppsala-international-quality-ff-2018/2018-08-25/
LOCATION:Slottsbiografen\, Nedre Slottsgatan 6\, Uppsala\, 753 09\, Sverige
CATEGORIES:Barn,Bio,Ungdom,Uppvisning
ATTACH;FMTTYPE=image/jpeg:https://arkiv.barniuppsala.se/wp-content/uploads/2018/08/Uppsala-International-Quality-Film-Festival-e1534933409460.jpg
END:VEVENT
END:VCALENDAR