BEGIN:VCALENDAR
VERSION:2.0
PRODID:-//Arkiv för Barn i Uppsala - ECPv5.1.6//NONSGML v1.0//EN
CALSCALE:GREGORIAN
METHOD:PUBLISH
X-WR-CALNAME:Arkiv för Barn i Uppsala
X-ORIGINAL-URL:https://arkiv.barniuppsala.se
X-WR-CALDESC:Händelser för Arkiv för Barn i Uppsala
BEGIN:VTIMEZONE
TZID:Europe/Stockholm
BEGIN:DAYLIGHT
TZOFFSETFROM:+0100
TZOFFSETTO:+0200
TZNAME:CEST
DTSTART:20160327T010000
END:DAYLIGHT
BEGIN:STANDARD
TZOFFSETFROM:+0200
TZOFFSETTO:+0100
TZNAME:CET
DTSTART:20161030T010000
END:STANDARD
END:VTIMEZONE
BEGIN:VEVENT
DTSTART;TZID=Europe/Stockholm:20161230T141500
DTEND;TZID=Europe/Stockholm:20161230T150000
DTSTAMP:20260421T140202
CREATED:20161214T105938Z
LAST-MODIFIED:20161214T110332Z
UID:9791-1483107300-1483110000@arkiv.barniuppsala.se
SUMMARY:Prova på-pass i Gränby ishall
DESCRIPTION:Uppsala Skridskoklubb bjuder in till ett prova på-pass i Gränby Ishall fredag 30 december med start kl 14.15. \nVill ditt barn lära sig att åka skridskor? Vill du själv bli bättre på att åka skridskor? Missa inte tillfället att prova på. \nDuktiga tränare kommer att finnas på plats för att hjälpa till. \nÅkare i alla åldrar är välkomna! Det är kostnadsfritt att prova. Ingen föranmälan krävs. Det är bara att dyka upp i B-hallen. Du måste ta med egen utrustning. Passet är 45 minuter\, kom i tid! \nVarmt välkommen hälsar Uppsala Skridskoklubb! \nBild: pixabay.com. \n  \n0SHARESDela eventet
URL:https://arkiv.barniuppsala.se/event/uppsala-skridskoklubb-bjuder-in-till-prova-pa-pass/
LOCATION:Gränby Ishallar\, Råbyvägen 71\, Uppsala\, 75430\, Sverige
CATEGORIES:Prova på,Sport & Motion
ATTACH;FMTTYPE=image/jpeg:https://arkiv.barniuppsala.se/wp-content/uploads/2016/12/skridskokille_pappa.jpg
ORGANIZER;CN="Uppsala%20skridskoklubb":MAILTO:styrelsen.uppsalask@gmail.com
GEO:59.8802357;17.6565891
X-APPLE-STRUCTURED-LOCATION;VALUE=URI;X-ADDRESS=Gränby Ishallar Råbyvägen 71 Uppsala 75430 Sverige;X-APPLE-RADIUS=500;X-TITLE=Råbyvägen 71:geo:17.6565891,59.8802357
END:VEVENT
END:VCALENDAR