BEGIN:VCALENDAR
VERSION:2.0
PRODID:-//Arkiv för Barn i Uppsala - ECPv5.1.6//NONSGML v1.0//EN
CALSCALE:GREGORIAN
METHOD:PUBLISH
X-WR-CALNAME:Arkiv för Barn i Uppsala
X-ORIGINAL-URL:https://arkiv.barniuppsala.se
X-WR-CALDESC:Händelser för Arkiv för Barn i Uppsala
BEGIN:VTIMEZONE
TZID:Europe/Stockholm
BEGIN:DAYLIGHT
TZOFFSETFROM:+0100
TZOFFSETTO:+0200
TZNAME:CEST
DTSTART:20190331T010000
END:DAYLIGHT
BEGIN:STANDARD
TZOFFSETFROM:+0200
TZOFFSETTO:+0100
TZNAME:CET
DTSTART:20191027T010000
END:STANDARD
END:VTIMEZONE
BEGIN:VEVENT
DTSTART;TZID=Europe/Stockholm:20190911T190000
DTEND;TZID=Europe/Stockholm:20190911T210000
DTSTAMP:20260420T102635
CREATED:20190904T103349Z
LAST-MODIFIED:20190904T103349Z
UID:41211-1568228400-1568235600@arkiv.barniuppsala.se
SUMMARY:En personlig resa - vägen till en anställning | Infoteket
DESCRIPTION:En personlig resa – vägen till en anställning\nTherese Wappsell har epilepsi och lindring intellektuell funktionsnedsättning (IF). Kom och ta del av hennes berättelse om sin resa mot framtiden genom skola och daglig verksamhet\, mot en anställning.\nEn personlig resa mot framtiden genom skola och daglig verksamhet. \nAlla intresserade är varmt välkomna! \nDatum: Onsdag 11 september 2019\nTid: 18:00-20:00\nPlats:  \nInfoteket om funktionshinder\, Kungsgärdets center\,\nS:t Johannesgatan 28 D\, Uppsala\nSå här hittar du till Infoteket (extern länk – Google Maps) \nÅlder: Ej angivet.\nPris: Fri entré.\nAnmälan: infoteket@regionuppsala.se eller 018-611 66 77.\nTillgänglighet: Hörslinga finns.\nArrangör: Infoteket \n\nOm Infoteket\nInfoteket om funktionshinder är till för dig som har en funktionsnedsättning\, är anhörig eller arbetar med barn\, ungdomar eller vuxna med funktionsnedsättningar i skola eller annan verksamhet. \nPå Infoteket kan du läsa och låna aktuell litteratur\, filmer\, söka information på webben\, tala med experter och lyssna på föreläsningar. De har lästips och faktablad om olika diagnoser och funktionsnedsättningar samt ett visningstorg för kommunikativt och kognitivt stöd. \nInfoteket är en verksamhet inom Region Uppsala. \n\nBesök gärna länkarna nedan (externa länkar öppnas i ett nytt fönster/flik).\nInfoteket | Kommande event för/om dig med funktionsnedsättning | Kommande event kunskap och lärande \nFoto: Ignacio Joaquin Silveyra de Avila \n0SHARESDela eventet
URL:https://arkiv.barniuppsala.se/event/vagen-till-en-anstallning-infoteket-ht19/
LOCATION:Infoteket om funktionshinder\, S:t Johannesgatan 28 D\, Uppsala\, 75233
CATEGORIES:Funktionsvariationer,Kunskap och Lärande
ATTACH;FMTTYPE=image/jpeg:https://arkiv.barniuppsala.se/wp-content/uploads/2019/06/ignacio-joaquin-silveyra-de-avila-hSeeTjLPD9g-unsplash-e1567596658177.jpg
ORGANIZER;CN="Infoteket%20om%20funktionshinder":MAILTO:infoteket@regionuppsala.se
GEO:59.8553013;17.6213622
X-APPLE-STRUCTURED-LOCATION;VALUE=URI;X-ADDRESS=Infoteket om funktionshinder S:t Johannesgatan 28 D Uppsala 75233;X-APPLE-RADIUS=500;X-TITLE=S:t Johannesgatan 28 D:geo:17.6213622,59.8553013
END:VEVENT
END:VCALENDAR